BEGIN:VCALENDAR
VERSION:2.0
PRODID:-//Lumberton Visitor&#039;s Bureau - ECPv6.15.20//NONSGML v1.0//EN
CALSCALE:GREGORIAN
METHOD:PUBLISH
X-WR-CALNAME:Lumberton Visitor&#039;s Bureau
X-ORIGINAL-URL:https://www.lumberton-nc.com
X-WR-CALDESC:Events for Lumberton Visitor&#039;s Bureau
REFRESH-INTERVAL;VALUE=DURATION:PT1H
X-Robots-Tag:noindex
X-PUBLISHED-TTL:PT1H
BEGIN:VTIMEZONE
TZID:America/New_York
BEGIN:DAYLIGHT
TZOFFSETFROM:-0500
TZOFFSETTO:-0400
TZNAME:EDT
DTSTART:20240310T070000
END:DAYLIGHT
BEGIN:STANDARD
TZOFFSETFROM:-0400
TZOFFSETTO:-0500
TZNAME:EST
DTSTART:20241103T060000
END:STANDARD
BEGIN:DAYLIGHT
TZOFFSETFROM:-0500
TZOFFSETTO:-0400
TZNAME:EDT
DTSTART:20250309T070000
END:DAYLIGHT
BEGIN:STANDARD
TZOFFSETFROM:-0400
TZOFFSETTO:-0500
TZNAME:EST
DTSTART:20251102T060000
END:STANDARD
BEGIN:DAYLIGHT
TZOFFSETFROM:-0500
TZOFFSETTO:-0400
TZNAME:EDT
DTSTART:20260308T070000
END:DAYLIGHT
BEGIN:STANDARD
TZOFFSETFROM:-0400
TZOFFSETTO:-0500
TZNAME:EST
DTSTART:20261101T060000
END:STANDARD
END:VTIMEZONE
BEGIN:VEVENT
DTSTART;TZID=America/New_York:20251108T100000
DTEND;TZID=America/New_York:20251108T100000
DTSTAMP:20260424T084209
CREATED:20251031T171646Z
LAST-MODIFIED:20251031T171807Z
UID:10006322-1762596000-1762596000@www.lumberton-nc.com
SUMMARY:Christmas Open House - Southern Chic's
DESCRIPTION:Join the festivities at Southern Chic’s Christmas Open House!  Food\, crafts\, gifts\, the monthly yard sale along with some Holiday Magic!  Find more information at the Facebook link listed below.  Many booths inside and a huge variety of  household items\, antique furniture all beautifully displayed.
URL:https://www.lumberton-nc.com/event/christmas-open-house-southern-chics/
LOCATION:Southern Chic’s\, 4320 Kahn Drive\, Lumberton\, North Carolina\, 28358
ORGANIZER;CN="Southern Chic's":MAILTO:Southernchics24@yahoo.com
END:VEVENT
BEGIN:VEVENT
DTSTART;TZID=America/New_York:20251004T070000
DTEND;TZID=America/New_York:20251004T160000
DTSTAMP:20260424T084209
CREATED:20250922T160856Z
LAST-MODIFIED:20250922T160856Z
UID:10006225-1759561200-1759593600@www.lumberton-nc.com
SUMMARY:Fall Festival - Southern Chic's
DESCRIPTION:Southern Chic’s is hosting a Fall Festival!  A yard sale is included in the sale along with food\, games and a craft fair.  Multiple activities are planned\, so do not miss this fun and shopping experience. \n 
URL:https://www.lumberton-nc.com/event/fall-festival-southern-chics/
LOCATION:Southern Chic’s\, 4320 Kahn Drive\, Lumberton\, North Carolina\, 28358
ORGANIZER;CN="Southern Chic's":MAILTO:Southernchics24@yahoo.com
END:VEVENT
END:VCALENDAR