BEGIN:VCALENDAR
VERSION:2.0
PRODID:-//Lumberton Visitor&#039;s Bureau - ECPv6.15.20//NONSGML v1.0//EN
CALSCALE:GREGORIAN
METHOD:PUBLISH
X-ORIGINAL-URL:https://www.lumberton-nc.com
X-WR-CALDESC:Events for Lumberton Visitor&#039;s Bureau
REFRESH-INTERVAL;VALUE=DURATION:PT1H
X-Robots-Tag:noindex
X-PUBLISHED-TTL:PT1H
BEGIN:VTIMEZONE
TZID:America/New_York
BEGIN:DAYLIGHT
TZOFFSETFROM:-0500
TZOFFSETTO:-0400
TZNAME:EDT
DTSTART:20230312T070000
END:DAYLIGHT
BEGIN:STANDARD
TZOFFSETFROM:-0400
TZOFFSETTO:-0500
TZNAME:EST
DTSTART:20231105T060000
END:STANDARD
BEGIN:DAYLIGHT
TZOFFSETFROM:-0500
TZOFFSETTO:-0400
TZNAME:EDT
DTSTART:20240310T070000
END:DAYLIGHT
BEGIN:STANDARD
TZOFFSETFROM:-0400
TZOFFSETTO:-0500
TZNAME:EST
DTSTART:20241103T060000
END:STANDARD
BEGIN:DAYLIGHT
TZOFFSETFROM:-0500
TZOFFSETTO:-0400
TZNAME:EDT
DTSTART:20250309T070000
END:DAYLIGHT
BEGIN:STANDARD
TZOFFSETFROM:-0400
TZOFFSETTO:-0500
TZNAME:EST
DTSTART:20251102T060000
END:STANDARD
BEGIN:DAYLIGHT
TZOFFSETFROM:-0500
TZOFFSETTO:-0400
TZNAME:EDT
DTSTART:20260308T070000
END:DAYLIGHT
BEGIN:STANDARD
TZOFFSETFROM:-0400
TZOFFSETTO:-0500
TZNAME:EST
DTSTART:20261101T060000
END:STANDARD
END:VTIMEZONE
BEGIN:VEVENT
DTSTART;TZID=America/New_York:20251213T080000
DTEND;TZID=America/New_York:20251213T100000
DTSTAMP:20260421T104748
CREATED:20251121T213304Z
LAST-MODIFIED:20251121T213304Z
UID:10006364-1765612800-1765620000@www.lumberton-nc.com
SUMMARY:Grinchmas Breakfast - LHS
DESCRIPTION:The Cheerleaders at Lumberton High School extend an invitation to have breakfast with the GRINCH!  Tickets are $10 each and Ages 2 and under eat free.  Purchase tickets from one of the cheerleaders or email jamie.britt@robeson.k12.nc.us.  Don’t let the GRINCH trick you.  Breakfast is in the cafeteria!
URL:https://www.lumberton-nc.com/event/grinchmas-breakfast-lhs/
LOCATION:Lumberton High School\, 3901 Fayetteville Road\, Lumberton\, North Carolina\, 28358
END:VEVENT
BEGIN:VEVENT
DTSTART;TZID=America/New_York:20250807T180000
DTEND;TZID=America/New_York:20250807T180000
DTSTAMP:20260421T104748
CREATED:20250627T141925Z
LAST-MODIFIED:20250627T141925Z
UID:10005977-1754589600-1754589600@www.lumberton-nc.com
SUMMARY:Pirate Nation Kickoff - Lumberton High School
DESCRIPTION:Join these Pirates and more!!!  It’s kickoff time for another year of academics\, sports and activities for the Lumberton High School Pirates.  Food trucks\, games\, and a reverse raffle are some of the activities planned for this energetic kickoff.  It’s all happening at Brooks Stadium on the campus of Lumberton High School.  Don’t forget to purchase your raffle tickets to support all LHS Athletes. Pirate Nation Kickoff is free to enter but the Reverse Raffle tickets will be limited.
URL:https://www.lumberton-nc.com/event/pirate-nation-kickoff-lumberton-high-school/
LOCATION:Lumberton High School\, 3901 Fayetteville Road\, Lumberton\, North Carolina\, 28358
END:VEVENT
BEGIN:VEVENT
DTSTART;TZID=America/New_York:20250712T090000
DTEND;TZID=America/New_York:20250712T090000
DTSTAMP:20260421T104748
CREATED:20250620T145905Z
LAST-MODIFIED:20250620T145905Z
UID:10005943-1752310800-1752310800@www.lumberton-nc.com
SUMMARY:Baseball Showcase - Lumberton
DESCRIPTION:Robeson Community College is sponsoring a Baseball Showcase for rising 9th –  12th grade students.  Pitchers\, 2 ways & catchers\, meet at 9:00am and position players meet at 10:00am.  Costs for the event is $75 for position players and pitchers\, 2 way players\, $100.  The location of the showcase is Lumberton Senior High School.  Register and pay for the event by using the QR code on the above flyer.
URL:https://www.lumberton-nc.com/event/baseball-showcase-lumberton/
LOCATION:Lumberton High School\, 3901 Fayetteville Road\, Lumberton\, North Carolina\, 28358
END:VEVENT
BEGIN:VEVENT
DTSTART;TZID=America/New_York:20250703T190000
DTEND;TZID=America/New_York:20250703T190000
DTSTAMP:20260421T104748
CREATED:20250620T134931Z
LAST-MODIFIED:20250620T162412Z
UID:10005938-1751569200-1751569200@www.lumberton-nc.com
SUMMARY:4th of July Family Celebration - Lumberton
DESCRIPTION:Celebrate Independence Day a day early at Lumberton High School.  Free entry into the football stadium begins at 7:00pm.  The All Veteran Parachute Jump Team will drop in\, live music\, face painting\, inflatables and food trucks\, all provided for this exciting celebration.  The fireworks display will begin at 9:30pm.  Bring the family and celebrate our freedoms and our great country.
URL:https://www.lumberton-nc.com/event/4th-of-july-family-celebration-lumberton/
LOCATION:Lumberton High School\, 3901 Fayetteville Road\, Lumberton\, North Carolina\, 28358
END:VEVENT
BEGIN:VEVENT
DTSTART;TZID=America/New_York:20241214T080000
DTEND;TZID=America/New_York:20241214T100000
DTSTAMP:20260421T104748
CREATED:20241118T162748Z
LAST-MODIFIED:20241210T143209Z
UID:10005312-1734163200-1734170400@www.lumberton-nc.com
SUMMARY:Breakfast With the Grinch - LHS
DESCRIPTION:The Grinch is slipping around in the Lumberton High School Cafeteria!  Join him for breakfast and take his grumpiness away!  Tickets are $10.00\, ages 2 and under free.  To purchase tickets\, see a Lumberton cheerleader or email jamie.britt@robeson.k12.nc.us.
URL:https://www.lumberton-nc.com/event/breakfast-with-the-grinch-lsh/
LOCATION:Lumberton High School\, 3901 Fayetteville Road\, Lumberton\, North Carolina\, 28358
END:VEVENT
END:VCALENDAR