BEGIN:VCALENDAR
VERSION:2.0
PRODID:-//Lumberton Visitor&#039;s Bureau - ECPv6.15.20//NONSGML v1.0//EN
CALSCALE:GREGORIAN
METHOD:PUBLISH
X-ORIGINAL-URL:https://www.lumberton-nc.com
X-WR-CALDESC:Events for Lumberton Visitor&#039;s Bureau
REFRESH-INTERVAL;VALUE=DURATION:PT1H
X-Robots-Tag:noindex
X-PUBLISHED-TTL:PT1H
BEGIN:VTIMEZONE
TZID:America/New_York
BEGIN:DAYLIGHT
TZOFFSETFROM:-0500
TZOFFSETTO:-0400
TZNAME:EDT
DTSTART:20250309T070000
END:DAYLIGHT
BEGIN:STANDARD
TZOFFSETFROM:-0400
TZOFFSETTO:-0500
TZNAME:EST
DTSTART:20251102T060000
END:STANDARD
BEGIN:DAYLIGHT
TZOFFSETFROM:-0500
TZOFFSETTO:-0400
TZNAME:EDT
DTSTART:20260308T070000
END:DAYLIGHT
BEGIN:STANDARD
TZOFFSETFROM:-0400
TZOFFSETTO:-0500
TZNAME:EST
DTSTART:20261101T060000
END:STANDARD
BEGIN:DAYLIGHT
TZOFFSETFROM:-0500
TZOFFSETTO:-0400
TZNAME:EDT
DTSTART:20270314T070000
END:DAYLIGHT
BEGIN:STANDARD
TZOFFSETFROM:-0400
TZOFFSETTO:-0500
TZNAME:EST
DTSTART:20271107T060000
END:STANDARD
END:VTIMEZONE
BEGIN:VEVENT
DTSTART;TZID=America/New_York:20260507T180000
DTEND;TZID=America/New_York:20260507T203000
DTSTAMP:20260425T151705
CREATED:20260422T164246Z
LAST-MODIFIED:20260422T164401Z
UID:10006696-1778176800-1778185800@www.lumberton-nc.com
SUMMARY:Tequila & Tacos - Happenings on Elm
DESCRIPTION:You are invited to a Tequila & Taco special evening at Happenings on Elm!  You’ll enjoy Tequilas\, a taco bar with shrimp\, beef\, chicken and all the trimmings.  Celebrate Cinco De Mayo!  It’s $65 for the evening so make reservations early by texting 910-734-0668.  It’s always fun to be at Happenings on Elm.
URL:https://www.lumberton-nc.com/event/tequila-tacos-happenings-on-elm-2/
LOCATION:Happenings on Elm\, 605 North Elm Street\, Lumberton\, North Carolina\, 28358
ATTACH;FMTTYPE=image/png:https://www.lumberton-nc.com/wp-content/uploads/Tequila-and-Tacos-Happenings-on-Elm.png
END:VEVENT
END:VCALENDAR