BEGIN:VCALENDAR
VERSION:2.0
PRODID:-//Lumberton Visitor&#039;s Bureau - ECPv6.15.20//NONSGML v1.0//EN
CALSCALE:GREGORIAN
METHOD:PUBLISH
X-WR-CALNAME:Lumberton Visitor&#039;s Bureau
X-ORIGINAL-URL:https://www.lumberton-nc.com
X-WR-CALDESC:Events for Lumberton Visitor&#039;s Bureau
REFRESH-INTERVAL;VALUE=DURATION:PT1H
X-Robots-Tag:noindex
X-PUBLISHED-TTL:PT1H
BEGIN:VTIMEZONE
TZID:America/New_York
BEGIN:DAYLIGHT
TZOFFSETFROM:-0500
TZOFFSETTO:-0400
TZNAME:EDT
DTSTART:20240310T070000
END:DAYLIGHT
BEGIN:STANDARD
TZOFFSETFROM:-0400
TZOFFSETTO:-0500
TZNAME:EST
DTSTART:20241103T060000
END:STANDARD
BEGIN:DAYLIGHT
TZOFFSETFROM:-0500
TZOFFSETTO:-0400
TZNAME:EDT
DTSTART:20250309T070000
END:DAYLIGHT
BEGIN:STANDARD
TZOFFSETFROM:-0400
TZOFFSETTO:-0500
TZNAME:EST
DTSTART:20251102T060000
END:STANDARD
BEGIN:DAYLIGHT
TZOFFSETFROM:-0500
TZOFFSETTO:-0400
TZNAME:EDT
DTSTART:20260308T070000
END:DAYLIGHT
BEGIN:STANDARD
TZOFFSETFROM:-0400
TZOFFSETTO:-0500
TZNAME:EST
DTSTART:20261101T060000
END:STANDARD
END:VTIMEZONE
BEGIN:VEVENT
DTSTART;TZID=America/New_York:20250315T113000
DTEND;TZID=America/New_York:20250315T173000
DTSTAMP:20260421T104802
CREATED:20250129T182546Z
LAST-MODIFIED:20250129T182640Z
UID:10005501-1742038200-1742059800@www.lumberton-nc.com
SUMMARY:Cruisin' Pembroke Street Festival
DESCRIPTION:SAVE THE DATE!  It’s a day of fun in the town of Pembroke.  This is a free event designed to bring the community together and give back locally.  Contact the information on the flyer for more information.
URL:https://www.lumberton-nc.com/event/cruisin-pembroke-street-festival-3/
LOCATION:Town of Pembroke\, 100 Union Chapel Road\, Pembroke\, North Carolina\, 28372
END:VEVENT
END:VCALENDAR