BEGIN:VCALENDAR
VERSION:2.0
PRODID:-//Lumberton Visitor&#039;s Bureau - ECPv6.15.20//NONSGML v1.0//EN
CALSCALE:GREGORIAN
METHOD:PUBLISH
X-WR-CALNAME:Lumberton Visitor&#039;s Bureau
X-ORIGINAL-URL:https://www.lumberton-nc.com
X-WR-CALDESC:Events for Lumberton Visitor&#039;s Bureau
REFRESH-INTERVAL;VALUE=DURATION:PT1H
X-Robots-Tag:noindex
X-PUBLISHED-TTL:PT1H
BEGIN:VTIMEZONE
TZID:America/New_York
BEGIN:DAYLIGHT
TZOFFSETFROM:-0500
TZOFFSETTO:-0400
TZNAME:EDT
DTSTART:20250309T070000
END:DAYLIGHT
BEGIN:STANDARD
TZOFFSETFROM:-0400
TZOFFSETTO:-0500
TZNAME:EST
DTSTART:20251102T060000
END:STANDARD
BEGIN:DAYLIGHT
TZOFFSETFROM:-0500
TZOFFSETTO:-0400
TZNAME:EDT
DTSTART:20260308T070000
END:DAYLIGHT
BEGIN:STANDARD
TZOFFSETFROM:-0400
TZOFFSETTO:-0500
TZNAME:EST
DTSTART:20261101T060000
END:STANDARD
BEGIN:DAYLIGHT
TZOFFSETFROM:-0500
TZOFFSETTO:-0400
TZNAME:EDT
DTSTART:20270314T070000
END:DAYLIGHT
BEGIN:STANDARD
TZOFFSETFROM:-0400
TZOFFSETTO:-0500
TZNAME:EST
DTSTART:20271107T060000
END:STANDARD
END:VTIMEZONE
BEGIN:VEVENT
DTSTART;TZID=America/New_York:20261017T090000
DTEND;TZID=America/New_York:20261017T170000
DTSTAMP:20260421T122554
CREATED:20260206T203200Z
LAST-MODIFIED:20260206T204537Z
UID:10006528-1792227600-1792256400@www.lumberton-nc.com
SUMMARY:Sky High Aerospace Expo and Fly-In  - Maxton
DESCRIPTION:Make plans to enjoy an air show.  The Sky-High Aerospace Expo and Fly-in provides education\, is community involved and yields great experiences.  The Laurinburg-Max Airport provides the perfect atmosphere for this show.     Correct times for events and details will be announced soon.  SAVE THE DATE!!!
URL:https://www.lumberton-nc.com/event/sky-high-aerospace-expo-and-fly-in-maxton/
LOCATION:Laurinburg-Maxton Airport\, 16701 Airport Road\, Maxton\, North Carolina\, 28364
ATTACH;FMTTYPE=image/png:https://www.lumberton-nc.com/wp-content/uploads/Sky-High-Official-Event-Flyer.png
ORGANIZER;CN="Sky-High Aerospace Expo":MAILTO:info@skyhighexpo.com
END:VEVENT
END:VCALENDAR