BEGIN:VCALENDAR
VERSION:2.0
PRODID:-//Lumberton Visitor&#039;s Bureau - ECPv6.15.20//NONSGML v1.0//EN
CALSCALE:GREGORIAN
METHOD:PUBLISH
X-ORIGINAL-URL:https://www.lumberton-nc.com
X-WR-CALDESC:Events for Lumberton Visitor&#039;s Bureau
REFRESH-INTERVAL;VALUE=DURATION:PT1H
X-Robots-Tag:noindex
X-PUBLISHED-TTL:PT1H
BEGIN:VTIMEZONE
TZID:America/New_York
BEGIN:DAYLIGHT
TZOFFSETFROM:-0500
TZOFFSETTO:-0400
TZNAME:EDT
DTSTART:20240310T070000
END:DAYLIGHT
BEGIN:STANDARD
TZOFFSETFROM:-0400
TZOFFSETTO:-0500
TZNAME:EST
DTSTART:20241103T060000
END:STANDARD
BEGIN:DAYLIGHT
TZOFFSETFROM:-0500
TZOFFSETTO:-0400
TZNAME:EDT
DTSTART:20250309T070000
END:DAYLIGHT
BEGIN:STANDARD
TZOFFSETFROM:-0400
TZOFFSETTO:-0500
TZNAME:EST
DTSTART:20251102T060000
END:STANDARD
BEGIN:DAYLIGHT
TZOFFSETFROM:-0500
TZOFFSETTO:-0400
TZNAME:EDT
DTSTART:20260308T070000
END:DAYLIGHT
BEGIN:STANDARD
TZOFFSETFROM:-0400
TZOFFSETTO:-0500
TZNAME:EST
DTSTART:20261101T060000
END:STANDARD
END:VTIMEZONE
BEGIN:VEVENT
DTSTART;TZID=America/New_York:20251108T070000
DTEND;TZID=America/New_York:20251108T093000
DTSTAMP:20260422T070111
CREATED:20251001T161936Z
LAST-MODIFIED:20251001T164018Z
UID:10006236-1762585200-1762594200@www.lumberton-nc.com
SUMMARY:Kiwanis 62nd Annual Pancake Festival
DESCRIPTION:Pancake time is HERE!  All you can eat!  Tickets are available at the door for $10.  If tickets are purchased in advance\, the price is $8.  Indulge!  All proceeds supports the Children’s Foundation. \n 
URL:https://www.lumberton-nc.com/event/kiwanis-62nd-annual-pancake-festival/2025-11-08/
LOCATION:Bill Sapp Recreaction Center\, 1100 N Cedar Street\, Lumberton\, North Carolina\, 28358
ORGANIZER;CN="Kiwanis of Robeson-Lumberton":MAILTO:GM@awi@yahoo.com
END:VEVENT
BEGIN:VEVENT
DTSTART;TZID=America/New_York:20251107T170000
DTEND;TZID=America/New_York:20251107T200000
DTSTAMP:20260422T070111
CREATED:20251001T161936Z
LAST-MODIFIED:20251001T164018Z
UID:10006235-1762534800-1762545600@www.lumberton-nc.com
SUMMARY:Kiwanis 62nd Annual Pancake Festival
DESCRIPTION:Pancake time is HERE!  All you can eat!  Tickets are available at the door for $10.  If tickets are purchased in advance\, the price is $8.  Indulge!  All proceeds supports the Children’s Foundation. \n 
URL:https://www.lumberton-nc.com/event/kiwanis-62nd-annual-pancake-festival/2025-11-07/
LOCATION:Bill Sapp Recreaction Center\, 1100 N Cedar Street\, Lumberton\, North Carolina\, 28358
ORGANIZER;CN="Kiwanis of Robeson-Lumberton":MAILTO:GM@awi@yahoo.com
END:VEVENT
BEGIN:VEVENT
DTSTART;TZID=America/New_York:20250810T080000
DTEND;TZID=America/New_York:20250810T170000
DTSTAMP:20260422T070111
CREATED:20250606T202346Z
LAST-MODIFIED:20250606T202438Z
UID:10005915-1754812800-1754845200@www.lumberton-nc.com
SUMMARY:Kiwanis 48th All American Golf Tournament
DESCRIPTION:The Kiwanis All American Golf Tournament is hosted at Pine Crest Country Club.  Two Person Best Ball and $250 per team.  The contacts of Kiwanis of Roberson-Lumberton are audreyward78@yahoo.com or cread@comtemporafabrics.com for more information.  Times are to be determined.
URL:https://www.lumberton-nc.com/event/kiwanis-48th-all-american-golf-tournament/2025-08-10/
LOCATION:Pine Crest Country Club\, 110 Nigel Rd.\, Lumberton\, NC\, 28360\, United States
ORGANIZER;CN="Kiwanis of Robeson-Lumberton":MAILTO:GM@awi@yahoo.com
END:VEVENT
BEGIN:VEVENT
DTSTART;TZID=America/New_York:20250809T080000
DTEND;TZID=America/New_York:20250809T080000
DTSTAMP:20260422T070111
CREATED:20250606T202346Z
LAST-MODIFIED:20250606T202438Z
UID:10005914-1754726400-1754726400@www.lumberton-nc.com
SUMMARY:Kiwanis 48th All American Golf Tournament
DESCRIPTION:The Kiwanis All American Golf Tournament is hosted at Pine Crest Country Club.  Two Person Best Ball and $250 per team.  The contacts of Kiwanis of Roberson-Lumberton are audreyward78@yahoo.com or cread@comtemporafabrics.com for more information.  Times are to be determined.
URL:https://www.lumberton-nc.com/event/kiwanis-48th-all-american-golf-tournament/2025-08-09/
LOCATION:Pine Crest Country Club\, 110 Nigel Rd.\, Lumberton\, NC\, 28360\, United States
ORGANIZER;CN="Kiwanis of Robeson-Lumberton":MAILTO:GM@awi@yahoo.com
END:VEVENT
BEGIN:VEVENT
DTSTART;TZID=America/New_York:20250108T120000
DTEND;TZID=America/New_York:20250108T140000
DTSTAMP:20260422T070111
CREATED:20241210T203836Z
LAST-MODIFIED:20241210T203836Z
UID:10005365-1736337600-1736344800@www.lumberton-nc.com
SUMMARY:New Inclusive Playground Opening
DESCRIPTION:Kiwanis of Robeson-Lumberton is pleased to announce the Grand Opening and Ribbon Cutting of a new Inclusive Playground.  The new playground is a part of the Dr. Raymond B. Pennington Athletic Center\, 400 Meadow Road\, Lumberton\, NC 28358. (formerly known as Northeast Park)
URL:https://www.lumberton-nc.com/event/new-inclusive-playground-opening/
LOCATION:Dr. Raymond B. Pennington Athletic Complex\, 500 Hornets Road\, Lumberton\, North Carolina\, 28358
ATTACH;FMTTYPE=image/jpeg:https://www.lumberton-nc.com/wp-content/uploads/Kiwanis-ADA-Playground-opening.jpg
ORGANIZER;CN="Kiwanis of Robeson-Lumberton":MAILTO:GM@awi@yahoo.com
END:VEVENT
END:VCALENDAR