BEGIN:VCALENDAR
VERSION:2.0
PRODID:-//Lumberton Visitor&#039;s Bureau - ECPv6.15.20//NONSGML v1.0//EN
CALSCALE:GREGORIAN
METHOD:PUBLISH
X-WR-CALNAME:Lumberton Visitor&#039;s Bureau
X-ORIGINAL-URL:https://www.lumberton-nc.com
X-WR-CALDESC:Events for Lumberton Visitor&#039;s Bureau
REFRESH-INTERVAL;VALUE=DURATION:PT1H
X-Robots-Tag:noindex
X-PUBLISHED-TTL:PT1H
BEGIN:VTIMEZONE
TZID:America/New_York
BEGIN:DAYLIGHT
TZOFFSETFROM:-0500
TZOFFSETTO:-0400
TZNAME:EDT
DTSTART:20240310T070000
END:DAYLIGHT
BEGIN:STANDARD
TZOFFSETFROM:-0400
TZOFFSETTO:-0500
TZNAME:EST
DTSTART:20241103T060000
END:STANDARD
BEGIN:DAYLIGHT
TZOFFSETFROM:-0500
TZOFFSETTO:-0400
TZNAME:EDT
DTSTART:20250309T070000
END:DAYLIGHT
BEGIN:STANDARD
TZOFFSETFROM:-0400
TZOFFSETTO:-0500
TZNAME:EST
DTSTART:20251102T060000
END:STANDARD
BEGIN:DAYLIGHT
TZOFFSETFROM:-0500
TZOFFSETTO:-0400
TZNAME:EDT
DTSTART:20260308T070000
END:DAYLIGHT
BEGIN:STANDARD
TZOFFSETFROM:-0400
TZOFFSETTO:-0500
TZNAME:EST
DTSTART:20261101T060000
END:STANDARD
BEGIN:DAYLIGHT
TZOFFSETFROM:-0500
TZOFFSETTO:-0400
TZNAME:EDT
DTSTART:20270314T070000
END:DAYLIGHT
BEGIN:STANDARD
TZOFFSETFROM:-0400
TZOFFSETTO:-0500
TZNAME:EST
DTSTART:20271107T060000
END:STANDARD
END:VTIMEZONE
BEGIN:VEVENT
DTSTART;TZID=America/New_York:20260328T090000
DTEND;TZID=America/New_York:20260328T090000
DTSTAMP:20260424T082801
CREATED:20260311T192256Z
LAST-MODIFIED:20260311T192734Z
UID:10006591-1774688400-1774688400@www.lumberton-nc.com
SUMMARY:Border Belt Horseman Association Event - SNCAEC
DESCRIPTION:The Southeastern NC Agricultural Event Center is hosting the Border Belt Horseman Association Show.  Our mission is to bring riders of all ages\, skill levels and disciplines together to develop their skillset and love for these animals. We instill a culture of positive reinforcement and the desire to help each and every rider.  Negative Coggins is required. \n 
URL:https://www.lumberton-nc.com/event/border-belt-horseman-association-event-sncaec/2026-03-28/
LOCATION:Southeastern North Carolina Agricultural Events Center\, 1027 Hwy 74 East\, Lumberton\, NC\, 28358\, United States
ATTACH;FMTTYPE=image/jpeg:https://www.lumberton-nc.com/wp-content/uploads/Border-Belt-Horse-Logo.jpg
END:VEVENT
BEGIN:VEVENT
DTSTART;TZID=America/New_York:20251115T080000
DTEND;TZID=America/New_York:20251115T170000
DTSTAMP:20260424T082801
CREATED:20241220T173413Z
LAST-MODIFIED:20250219T141545Z
UID:10005442-1763193600-1763226000@www.lumberton-nc.com
SUMMARY:BBHA Open Show
DESCRIPTION:The Border Belt Horseman Association is sponsoring an Open Show at the Southeastern NC Agricultural Events Center.  This is a fun time for youth to experience showmanship and develop skills.  Enjoy a friendly and welcoming atmosphere.  SAVE THE DATES!!!
URL:https://www.lumberton-nc.com/event/bbha-open-show/2025-11-15/
LOCATION:Southeastern North Carolina Agricultural Events Center\, 1027 Hwy 74 East\, Lumberton\, NC\, 28358\, United States
ATTACH;FMTTYPE=image/jpeg:https://www.lumberton-nc.com/wp-content/uploads/Border-Belt-Horse-Logo.jpg
END:VEVENT
BEGIN:VEVENT
DTSTART;TZID=America/New_York:20251018T080000
DTEND;TZID=America/New_York:20251018T170000
DTSTAMP:20260424T082801
CREATED:20241220T173413Z
LAST-MODIFIED:20250219T141545Z
UID:10005432-1760774400-1760806800@www.lumberton-nc.com
SUMMARY:BBHA Open Show
DESCRIPTION:The Border Belt Horseman Association is sponsoring an Open Show at the Southeastern NC Agricultural Events Center.  This is a fun time for youth to experience showmanship and develop skills.  Enjoy a friendly and welcoming atmosphere.  SAVE THE DATES!!!
URL:https://www.lumberton-nc.com/event/bbha-open-show/2025-10-18/
LOCATION:Southeastern North Carolina Agricultural Events Center\, 1027 Hwy 74 East\, Lumberton\, NC\, 28358\, United States
ATTACH;FMTTYPE=image/jpeg:https://www.lumberton-nc.com/wp-content/uploads/Border-Belt-Horse-Logo.jpg
END:VEVENT
BEGIN:VEVENT
DTSTART;TZID=America/New_York:20250913T080000
DTEND;TZID=America/New_York:20250913T170000
DTSTAMP:20260424T082801
CREATED:20241220T173413Z
LAST-MODIFIED:20250219T141545Z
UID:10005431-1757750400-1757782800@www.lumberton-nc.com
SUMMARY:BBHA Open Show
DESCRIPTION:The Border Belt Horseman Association is sponsoring an Open Show at the Southeastern NC Agricultural Events Center.  This is a fun time for youth to experience showmanship and develop skills.  Enjoy a friendly and welcoming atmosphere.  SAVE THE DATES!!!
URL:https://www.lumberton-nc.com/event/bbha-open-show/2025-09-13/
LOCATION:Southeastern North Carolina Agricultural Events Center\, 1027 Hwy 74 East\, Lumberton\, NC\, 28358\, United States
ATTACH;FMTTYPE=image/jpeg:https://www.lumberton-nc.com/wp-content/uploads/Border-Belt-Horse-Logo.jpg
END:VEVENT
BEGIN:VEVENT
DTSTART;TZID=America/New_York:20250503T080000
DTEND;TZID=America/New_York:20250503T170000
DTSTAMP:20260424T082801
CREATED:20241220T173413Z
LAST-MODIFIED:20250219T141545Z
UID:10005430-1746259200-1746291600@www.lumberton-nc.com
SUMMARY:BBHA Open Show
DESCRIPTION:The Border Belt Horseman Association is sponsoring an Open Show at the Southeastern NC Agricultural Events Center.  This is a fun time for youth to experience showmanship and develop skills.  Enjoy a friendly and welcoming atmosphere.  SAVE THE DATES!!!
URL:https://www.lumberton-nc.com/event/bbha-open-show/2025-05-03/
LOCATION:Southeastern North Carolina Agricultural Events Center\, 1027 Hwy 74 East\, Lumberton\, NC\, 28358\, United States
ATTACH;FMTTYPE=image/jpeg:https://www.lumberton-nc.com/wp-content/uploads/Border-Belt-Horse-Logo.jpg
END:VEVENT
BEGIN:VEVENT
DTSTART;TZID=America/New_York:20250329T080000
DTEND;TZID=America/New_York:20250329T170000
DTSTAMP:20260424T082801
CREATED:20241220T173413Z
LAST-MODIFIED:20250219T141545Z
UID:10005594-1743235200-1743267600@www.lumberton-nc.com
SUMMARY:BBHA Open Show
DESCRIPTION:The Border Belt Horseman Association is sponsoring an Open Show at the Southeastern NC Agricultural Events Center.  This is a fun time for youth to experience showmanship and develop skills.  Enjoy a friendly and welcoming atmosphere.  SAVE THE DATES!!!
URL:https://www.lumberton-nc.com/event/bbha-open-show/2025-03-29/
LOCATION:Southeastern North Carolina Agricultural Events Center\, 1027 Hwy 74 East\, Lumberton\, NC\, 28358\, United States
ATTACH;FMTTYPE=image/jpeg:https://www.lumberton-nc.com/wp-content/uploads/Border-Belt-Horse-Logo.jpg
END:VEVENT
END:VCALENDAR