BEGIN:VCALENDAR
VERSION:2.0
PRODID:-//Lumberton Visitor&#039;s Bureau - ECPv6.15.20//NONSGML v1.0//EN
CALSCALE:GREGORIAN
METHOD:PUBLISH
X-WR-CALNAME:Lumberton Visitor&#039;s Bureau
X-ORIGINAL-URL:https://www.lumberton-nc.com
X-WR-CALDESC:Events for Lumberton Visitor&#039;s Bureau
REFRESH-INTERVAL;VALUE=DURATION:PT1H
X-Robots-Tag:noindex
X-PUBLISHED-TTL:PT1H
BEGIN:VTIMEZONE
TZID:America/New_York
BEGIN:DAYLIGHT
TZOFFSETFROM:-0500
TZOFFSETTO:-0400
TZNAME:EDT
DTSTART:20250309T070000
END:DAYLIGHT
BEGIN:STANDARD
TZOFFSETFROM:-0400
TZOFFSETTO:-0500
TZNAME:EST
DTSTART:20251102T060000
END:STANDARD
BEGIN:DAYLIGHT
TZOFFSETFROM:-0500
TZOFFSETTO:-0400
TZNAME:EDT
DTSTART:20260308T070000
END:DAYLIGHT
BEGIN:STANDARD
TZOFFSETFROM:-0400
TZOFFSETTO:-0500
TZNAME:EST
DTSTART:20261101T060000
END:STANDARD
BEGIN:DAYLIGHT
TZOFFSETFROM:-0500
TZOFFSETTO:-0400
TZNAME:EDT
DTSTART:20270314T070000
END:DAYLIGHT
BEGIN:STANDARD
TZOFFSETFROM:-0400
TZOFFSETTO:-0500
TZNAME:EST
DTSTART:20271107T060000
END:STANDARD
END:VTIMEZONE
BEGIN:VEVENT
DTSTART;TZID=America/New_York:20260430T180000
DTEND;TZID=America/New_York:20260430T210000
DTSTAMP:20260422T094337
CREATED:20260122T174006Z
LAST-MODIFIED:20260122T174006Z
UID:10006468-1777572000-1777582800@www.lumberton-nc.com
SUMMARY:Wine Down - IPCA
DESCRIPTION:Inner Peace Center for the Arts is hosting Wine Down\, a monthly time to Wine Down while eating delicious foods prepared by the in-house chef and listening to live music by a local artist.  Table reservations are available\, a cover charge of $10 is required for admittance.  Follow the Inner Peace Center for the Arts weblink below for details about table reservation.
URL:https://www.lumberton-nc.com/event/wine-down-ipca-2/2026-04-30/
LOCATION:Inner Peace Center for the Arts\, 302 North Chestnut Street\, Lumberton\, North Carollina\, 28358
ATTACH;FMTTYPE=image/png:https://www.lumberton-nc.com/wp-content/uploads/Wine-Down-IPCA.png
ORGANIZER;CN="Inner Peace Center for the Arts":MAILTO:ipcagallery@gmail.com
END:VEVENT
BEGIN:VEVENT
DTSTART;TZID=America/New_York:20260521T180000
DTEND;TZID=America/New_York:20260521T210000
DTSTAMP:20260422T094337
CREATED:20260122T174006Z
LAST-MODIFIED:20260122T174006Z
UID:10006469-1779386400-1779397200@www.lumberton-nc.com
SUMMARY:Wine Down - IPCA
DESCRIPTION:Inner Peace Center for the Arts is hosting Wine Down\, a monthly time to Wine Down while eating delicious foods prepared by the in-house chef and listening to live music by a local artist.  Table reservations are available\, a cover charge of $10 is required for admittance.  Follow the Inner Peace Center for the Arts weblink below for details about table reservation.
URL:https://www.lumberton-nc.com/event/wine-down-ipca-2/2026-05-21/
LOCATION:Inner Peace Center for the Arts\, 302 North Chestnut Street\, Lumberton\, North Carollina\, 28358
ATTACH;FMTTYPE=image/png:https://www.lumberton-nc.com/wp-content/uploads/Wine-Down-IPCA.png
ORGANIZER;CN="Inner Peace Center for the Arts":MAILTO:ipcagallery@gmail.com
END:VEVENT
END:VCALENDAR