BEGIN:VCALENDAR
VERSION:2.0
PRODID:-//Lumberton Visitor&#039;s Bureau - ECPv6.15.20//NONSGML v1.0//EN
CALSCALE:GREGORIAN
METHOD:PUBLISH
X-ORIGINAL-URL:https://www.lumberton-nc.com
X-WR-CALDESC:Events for Lumberton Visitor&#039;s Bureau
REFRESH-INTERVAL;VALUE=DURATION:PT1H
X-Robots-Tag:noindex
X-PUBLISHED-TTL:PT1H
BEGIN:VTIMEZONE
TZID:America/New_York
BEGIN:DAYLIGHT
TZOFFSETFROM:-0500
TZOFFSETTO:-0400
TZNAME:EDT
DTSTART:20250309T070000
END:DAYLIGHT
BEGIN:STANDARD
TZOFFSETFROM:-0400
TZOFFSETTO:-0500
TZNAME:EST
DTSTART:20251102T060000
END:STANDARD
BEGIN:DAYLIGHT
TZOFFSETFROM:-0500
TZOFFSETTO:-0400
TZNAME:EDT
DTSTART:20260308T070000
END:DAYLIGHT
BEGIN:STANDARD
TZOFFSETFROM:-0400
TZOFFSETTO:-0500
TZNAME:EST
DTSTART:20261101T060000
END:STANDARD
BEGIN:DAYLIGHT
TZOFFSETFROM:-0500
TZOFFSETTO:-0400
TZNAME:EDT
DTSTART:20270314T070000
END:DAYLIGHT
BEGIN:STANDARD
TZOFFSETFROM:-0400
TZOFFSETTO:-0500
TZNAME:EST
DTSTART:20271107T060000
END:STANDARD
END:VTIMEZONE
BEGIN:VEVENT
DTSTART;TZID=America/New_York:20260507T100000
DTEND;TZID=America/New_York:20260507T140000
DTSTAMP:20260423T064913
CREATED:20260420T174229Z
LAST-MODIFIED:20260420T174229Z
UID:10006670-1778148000-1778162400@www.lumberton-nc.com
SUMMARY:Tourism Day - Welcome Center North
DESCRIPTION:Welcome Center North on I-95 invites travelers to stop by and enjoy special treats provided by hotels and businesses located in towns along the I-95 corridor on May 7th.  We look forward to meeting you and wishing you safe traveling.
URL:https://www.lumberton-nc.com/event/tourism-day-welcome-center-north/
LOCATION:Welcome Center North\, Mile Marker 181\, Pleasant Hill\, North Carolina\, 27855
ATTACH;FMTTYPE=image/jpeg:https://www.lumberton-nc.com/wp-content/uploads/Tourism-Welcome-Center-North.jpg
END:VEVENT
BEGIN:VEVENT
DTSTART;TZID=America/New_York:20260507T110000
DTEND;TZID=America/New_York:20260507T160000
DTSTAMP:20260423T064913
CREATED:20260318T162456Z
LAST-MODIFIED:20260318T163058Z
UID:10006616-1778151600-1778169600@www.lumberton-nc.com
SUMMARY:Spring Festival Exhibition 2026 - RAG
DESCRIPTION:The Robeson Art Guild’s current exhibition is Spring Festival 2026.  It’s a beautiful time of year in our community and local artists are displaying their special works of art.  Visit the Guild House and enjoy a calm atmosphere and beautifully displayed art.  There is always something interesting happening at the Guild House.  The regular hours the Guild House is open:  Tuesdays and Thursdays from 11:00am to 4:00pm\, and by appointment.
URL:https://www.lumberton-nc.com/event/spring-festival-exhibition-2026-rag/2026-05-07/
LOCATION:Robeson Art Guild\, 109 West 9th Street\, Lumberton\, NC\, 28358
ATTACH;FMTTYPE=image/webp:https://www.lumberton-nc.com/wp-content/uploads/RAW-wisteria.webp
ORGANIZER;CN="Robeson Art Guild":MAILTO:info@robesonartguild.org
END:VEVENT
BEGIN:VEVENT
DTSTART;TZID=America/New_York:20260507T180000
DTEND;TZID=America/New_York:20260507T203000
DTSTAMP:20260423T064913
CREATED:20260422T164246Z
LAST-MODIFIED:20260422T164401Z
UID:10006696-1778176800-1778185800@www.lumberton-nc.com
SUMMARY:Tequila & Tacos - Happenings on Elm
DESCRIPTION:You are invited to a Tequila & Taco special evening at Happenings on Elm!  You’ll enjoy Tequilas\, a taco bar with shrimp\, beef\, chicken and all the trimmings.  Celebrate Cinco De Mayo!  It’s $65 for the evening so make reservations early by texting 910-734-0668.  It’s always fun to be at Happenings on Elm.
URL:https://www.lumberton-nc.com/event/tequila-tacos-happenings-on-elm-2/
LOCATION:Happenings on Elm\, 605 North Elm Street\, Lumberton\, North Carolina\, 28358
ATTACH;FMTTYPE=image/png:https://www.lumberton-nc.com/wp-content/uploads/Tequila-and-Tacos-Happenings-on-Elm.png
END:VEVENT
BEGIN:VEVENT
DTSTART;TZID=America/New_York:20260507T190000
DTEND;TZID=America/New_York:20260507T190000
DTSTAMP:20260423T064913
CREATED:20260318T190811Z
LAST-MODIFIED:20260318T190811Z
UID:10006620-1778180400-1778180400@www.lumberton-nc.com
SUMMARY:Mark McKinney - Your Pie Pizza
DESCRIPTION:Your Pie Pizza has live music by Mark McKinney’s vocals and guitar.  It’s a great night to eat a special made-to-order pizza with a cold chosen brew\, not to mention\, gelato for dessert.  Great company\, great music and the perfect place to be this Thursday night.  Enjoy!
URL:https://www.lumberton-nc.com/event/mark-mckinney-your-pie-pizza/
LOCATION:Your Pie Pizza\, 5130 Fayetteville Road\, Lumberton\, North Carolina\, 29360
ATTACH;FMTTYPE=image/jpeg:https://www.lumberton-nc.com/wp-content/uploads/Mark-McKenney.jpg
ORGANIZER;CN="Your Pie Pizza":MAILTO:kfraley2450@gmail.com
END:VEVENT
BEGIN:VEVENT
DTSTART;TZID=America/New_York:20260508T100000
DTEND;TZID=America/New_York:20260508T140000
DTSTAMP:20260423T064913
CREATED:20260420T192809Z
LAST-MODIFIED:20260420T192809Z
UID:10006677-1778234400-1778248800@www.lumberton-nc.com
SUMMARY:National Tourism Day - Welcome Center South
DESCRIPTION:Your are invited to stop by Welcome Center South on May 8th and browse the vendors with snacks and brochures from towns and great stops along the I-95 corridor.  We look forward to greeting you!!!
URL:https://www.lumberton-nc.com/event/national-tourism-day-welcome-center-south/
LOCATION:Welcome Center South\, Mile Marker 5\, Rowland\, North Carolina\, 28383
ATTACH;FMTTYPE=image/png:https://www.lumberton-nc.com/wp-content/uploads/Tourism-Day-2026.png
END:VEVENT
BEGIN:VEVENT
DTSTART;TZID=America/New_York:20260509T080000
DTEND;TZID=America/New_York:20260509T120000
DTSTAMP:20260423T064913
CREATED:20260414T142419Z
LAST-MODIFIED:20260414T142419Z
UID:10006665-1778313600-1778328000@www.lumberton-nc.com
SUMMARY:Opening Day - Farmers Market
DESCRIPTION:The 2026 Season of the Robeson County Farmers Market begins!  The Market is located downtown on the plaza for opening day.  Farmers display the fresh-from-the-field vegetables\, eggs\, meats and more.  Vendors are present and there is space for more vendors.  Please contact the website listed above for the Farmers Market.  Shop local!!!
URL:https://www.lumberton-nc.com/event/opening-day-farmers-market/
LOCATION:Robeson County Farmers Market\, Corner of 3rd Street & Water Street\, Lumberton\, North Carolina\, 28358
ATTACH;FMTTYPE=image/png:https://www.lumberton-nc.com/wp-content/uploads/Robeson-County-Farmers-Market-Opening-2026.png
ORGANIZER;CN="NC Cooperative Extension Service":MAILTO:robesoncofarmersmkt@gmail.com
END:VEVENT
BEGIN:VEVENT
DTSTART;TZID=America/New_York:20260509T090000
DTEND;TZID=America/New_York:20260509T120000
DTSTAMP:20260423T064913
CREATED:20260415T203133Z
LAST-MODIFIED:20260415T203133Z
UID:10006667-1778317200-1778328000@www.lumberton-nc.com
SUMMARY:Plant Sale - Master Gardners
DESCRIPTION:The Master Gardners extension of the NC Cooperative Extension Services is hosting a plant sale at the Farmers Market.  Buy  Spring annuals\, perennials\, herbs\, vegetables and learn about how to take care of your favorite plants.
URL:https://www.lumberton-nc.com/event/plant-sale-master-gardners/
LOCATION:Dick Taylor Plaza (Historic Downtown)\, 111 E 3rd Street\, Lumberton\, NC\, 28358\, United States
ATTACH;FMTTYPE=image/png:https://www.lumberton-nc.com/wp-content/uploads/Plant-Sale-2026-Mastere-Gardners.png
ORGANIZER;CN="NC Cooperative Extension Service":MAILTO:robesoncofarmersmkt@gmail.com
END:VEVENT
BEGIN:VEVENT
DTSTART;TZID=America/New_York:20260509T090000
DTEND;TZID=America/New_York:20260509T120000
DTSTAMP:20260423T064913
CREATED:20260422T204939Z
LAST-MODIFIED:20260422T204939Z
UID:10006698-1778317200-1778328000@www.lumberton-nc.com
SUMMARY:Graduation Day - UNCP
DESCRIPTION:Congratulations to the UNCP Spring Class of 2026.  The Undergraduate ceremony begins at 9:00am to 12:00pm.  Visit the UNCP weblink below for details.
URL:https://www.lumberton-nc.com/event/graduation-day-uncp/
LOCATION:UNC Pembroke\, 202 Main St\, Pembroke\, NC\, United States
ATTACH;FMTTYPE=image/jpeg:https://www.lumberton-nc.com/wp-content/uploads/Graduation-photo3.jpg
END:VEVENT
BEGIN:VEVENT
DTSTART;TZID=America/New_York:20260509T100000
DTEND;TZID=America/New_York:20260509T170000
DTSTAMP:20260423T064913
CREATED:20260421T193405Z
LAST-MODIFIED:20260421T193405Z
UID:10006679-1778320800-1778346000@www.lumberton-nc.com
SUMMARY:Mother's Day Hobby Show
DESCRIPTION:Biggs Park Mall is hosting the Toys\, Comic\, Cards and Collectibles Show\, center court in front of Tomlinson’s Department Store.  Collectors are welcome and the public as well.  The show is perfect for all ages.
URL:https://www.lumberton-nc.com/event/mothers-day-hobby-show/
LOCATION:Biggs Park Mall\, 2800 North Elm Street\, Lumberton\, North Carolina\, 29358
ATTACH;FMTTYPE=image/png:https://www.lumberton-nc.com/wp-content/uploads/Comic-and-Hobby-show.png
END:VEVENT
BEGIN:VEVENT
DTSTART;TZID=America/New_York:20260513T100000
DTEND;TZID=America/New_York:20260513T160000
DTSTAMP:20260423T064913
CREATED:20260422T210439Z
LAST-MODIFIED:20260422T210439Z
UID:10006699-1778666400-1778688000@www.lumberton-nc.com
SUMMARY:Graduation Day - RCC
DESCRIPTION:Congratulations to the Spring graduates at Robeson Community College.  Graduation ceremonies are being held in the A D Lewis Auditorium at 10:00am and 4:00pm.  Please use the website link below for scheduled details.
URL:https://www.lumberton-nc.com/event/graduation-day-rcc/
LOCATION:Robeson Community College\, 5160 North Fayetteville Road\, Lumberton\, North Carolina\, 28360
ATTACH;FMTTYPE=image/jpeg:https://www.lumberton-nc.com/wp-content/uploads/Graduation-RCC.jpg
END:VEVENT
BEGIN:VEVENT
DTSTART;TZID=America/New_York:20260514T110000
DTEND;TZID=America/New_York:20260514T110000
DTSTAMP:20260423T064913
CREATED:20260311T154303Z
LAST-MODIFIED:20260311T164349Z
UID:10006586-1778756400-1778756400@www.lumberton-nc.com
SUMMARY:Chamber Golf Classic
DESCRIPTION:The Lumberton NC Chamber of Commerce Golf Classic is at Pine Crest County Club.  Lunch is at 11:00am and Shot-Gun start at 12:00pm.  Hole-in-one prize is available as well as 4 closest to the pin\, most accurate drive\, money board\, and 1st\, 2nd and 3rd Team awards.  Support the Chamber and enjoy the day!
URL:https://www.lumberton-nc.com/event/chamber-golf-classic/
LOCATION:Pine Crest Country Club\, 110 Nigel Rd.\, Lumberton\, NC\, 28360\, United States
ATTACH;FMTTYPE=application/pdf:https://www.lumberton-nc.com/wp-content/uploads/2026-Golf-Registration.pdf
ORGANIZER;CN="Lumberton Area Chamber of Commerce":MAILTO:Lumbertonchamber@bellsouth.net
END:VEVENT
BEGIN:VEVENT
DTSTART;TZID=America/New_York:20260514T190000
DTEND;TZID=America/New_York:20260514T190000
DTSTAMP:20260423T064913
CREATED:20260318T191423Z
LAST-MODIFIED:20260318T191423Z
UID:10006621-1778785200-1778785200@www.lumberton-nc.com
SUMMARY:Julia Golden - Your Pie Pizza
DESCRIPTION:Julia Golden is the featured vocalist at Your Pie Pizza!  It’s Thursday Night!  Grab a delicious made-to-order pizza and a cold brew or beverage.  Relax\, order some gelato for dessert and enjoy the evening at Your Pie.
URL:https://www.lumberton-nc.com/event/julia-golden-your-pie-pizza-4/
LOCATION:Your Pie Pizza\, 5130 Fayetteville Road\, Lumberton\, North Carolina\, 29360
ATTACH;FMTTYPE=image/png:https://www.lumberton-nc.com/wp-content/uploads/Julia-Golden.png
ORGANIZER;CN="Your Pie Pizza":MAILTO:kfraley2450@gmail.com
END:VEVENT
BEGIN:VEVENT
DTSTART;TZID=America/New_York:20260514T190000
DTEND;TZID=America/New_York:20260514T210000
DTSTAMP:20260423T064913
CREATED:20260203T174237Z
LAST-MODIFIED:20260309T140423Z
UID:10006519-1778785200-1778792400@www.lumberton-nc.com
SUMMARY:Alive After 5 Concert Series - The Sand Band
DESCRIPTION:The Sand Band is opening the Alive After 5 Concert Series in Historic Downtown Lumberton on the Dick Taylor Plaza.  Get in the groove for a weekly concert each Thursday for the next 5 weeks!  The Sand Band is based in Pinehurst NC and is known for the variety of music that will reach the soul of the audience.  Some seating is available at the plaza\, but be encouraged to bring your own folding chair to rest between dances.  More details will follow\, so SAVE THE DATE! \n 
URL:https://www.lumberton-nc.com/event/alive-after-5-concert-series-4/
LOCATION:Dick Taylor Plaza (Historic Downtown)\, 111 E 3rd Street\, Lumberton\, NC\, 28358\, United States
ATTACH;FMTTYPE=image/jpeg:https://www.lumberton-nc.com/wp-content/uploads/The-Sand-Band.jpg
ORGANIZER;CN="Main Street Lumberton":MAILTO:sward@ci.lumberton.nc.us
END:VEVENT
BEGIN:VEVENT
DTSTART;TZID=America/New_York:20260516T090000
DTEND;TZID=America/New_York:20260516T210000
DTSTAMP:20260423T064913
CREATED:20260318T160219Z
LAST-MODIFIED:20260318T160433Z
UID:10006602-1778922000-1778965200@www.lumberton-nc.com
SUMMARY:Lumbee Federal Recognition Celebration
DESCRIPTION:An invitation is extended to the celebration of a Federal Recognition Event on campus at the University of North Carolina at Pembroke.   Join the mini-powwow with food\, festivities\, a gospel sing\, vendors and more.  This is an occasion to remember!  The celebration area is the quad between Old Main and the Mary Livermore Library.
URL:https://www.lumberton-nc.com/event/lumbee-federal-recognition-celebration/
LOCATION:UNC Pembroke\, 202 Main St\, Pembroke\, NC\, United States
ATTACH;FMTTYPE=image/png:https://www.lumberton-nc.com/wp-content/uploads/Lumbee-Recognition-Celebration-Flyer.png
END:VEVENT
BEGIN:VEVENT
DTSTART;TZID=America/New_York:20260516T130000
DTEND;TZID=America/New_York:20260516T160000
DTSTAMP:20260423T064913
CREATED:20260316T201737Z
LAST-MODIFIED:20260421T194308Z
UID:10006598-1778936400-1778947200@www.lumberton-nc.com
SUMMARY:OEuvre d'Art en Exposition
DESCRIPTION:Trinity Episcopal Church is hosting OEuvre d’Art en Exposition\, an afternoon of Art and Music with Mark Andersen. \nThe Robeson Art Guild is proud to be part of Oeuvre D’Art en Exposition: An Afternoon of Art and Music planned for Saturday\, May 16th\, at Trinity Episcopal Church. Well known musician Mark Andersen will premiere his new suite for piano\, composed to accompany the artwork on display.  The artwork exhibit will include paintings and sculpture from Mark Andersen’s personal collection\, in addition to work recently shown at the Robeson Art Guild.  The afternoon will be an exciting opportunity to see an eclectic collection of original paintings\, pottery\, and sculptural works. Refreshments will be available in the Parish Hall following the musical presentation. \nThe Robeson Art Guild participation in this special afternoon of art and music is the first under a new program of small\, select exhibitions around Robeson County. The program is designed to share with communities outside Lumberton the rich legacy of art created by artists in and around Robeson County. \n  \n 
URL:https://www.lumberton-nc.com/event/oeuvre-dart-en-exposition/
LOCATION:Trinity Episcopal Church\, 1210 North Walnut St\, Lumberton\, North Carolina\, 28358
ATTACH;FMTTYPE=image/png:https://www.lumberton-nc.com/wp-content/uploads/RAG-Oeuvre-DArt-003.png
ORGANIZER;CN="Robeson Art Guild":MAILTO:info@robesonartguild.org
END:VEVENT
BEGIN:VEVENT
DTSTART;TZID=America/New_York:20260521T180000
DTEND;TZID=America/New_York:20260521T210000
DTSTAMP:20260423T064913
CREATED:20260122T174006Z
LAST-MODIFIED:20260122T174006Z
UID:10006469-1779386400-1779397200@www.lumberton-nc.com
SUMMARY:Wine Down - IPCA
DESCRIPTION:Inner Peace Center for the Arts is hosting Wine Down\, a monthly time to Wine Down while eating delicious foods prepared by the in-house chef and listening to live music by a local artist.  Table reservations are available\, a cover charge of $10 is required for admittance.  Follow the Inner Peace Center for the Arts weblink below for details about table reservation.
URL:https://www.lumberton-nc.com/event/wine-down-ipca-2/2026-05-21/
LOCATION:Inner Peace Center for the Arts\, 302 North Chestnut Street\, Lumberton\, North Carollina\, 28358
ATTACH;FMTTYPE=image/png:https://www.lumberton-nc.com/wp-content/uploads/Wine-Down-IPCA.png
ORGANIZER;CN="Inner Peace Center for the Arts":MAILTO:ipcagallery@gmail.com
END:VEVENT
BEGIN:VEVENT
DTSTART;TZID=America/New_York:20260521T183000
DTEND;TZID=America/New_York:20260521T200000
DTSTAMP:20260423T064913
CREATED:20260422T134727Z
LAST-MODIFIED:20260422T134727Z
UID:10006681-1779388200-1779393600@www.lumberton-nc.com
SUMMARY:Artist Choice/ Remembrance Poppy Exhibition - RAG
DESCRIPTION:Robeson Art Guild welcomes visitors to view an Artist Choice/Remembrance Poppy Exhibition.  Join the opening reception from 6:30-8:00pm.  Opening a new exhibition is always exciting.  The Guild House is open on Tuesdays and Thursdays 11:00am – 4:00pm and other times by appointment.  The exhibition closes on June 9\, 2026.
URL:https://www.lumberton-nc.com/event/artist-choice-remembrance-poppy-exhibition-rag/
LOCATION:Robeson Art Guild\, 109 West 9th Street\, Lumberton\, NC\, 28358
ATTACH;FMTTYPE=image/webp:https://www.lumberton-nc.com/wp-content/uploads/RAG-Poppy.webp
ORGANIZER;CN="Robeson Art Guild":MAILTO:info@robesonartguild.org
END:VEVENT
BEGIN:VEVENT
DTSTART;TZID=America/New_York:20260521T190000
DTEND;TZID=America/New_York:20260521T190000
DTSTAMP:20260423T064913
CREATED:20260318T192606Z
LAST-MODIFIED:20260318T192606Z
UID:10006622-1779390000-1779390000@www.lumberton-nc.com
SUMMARY:Rob Cole - Your Pie Pizza
DESCRIPTION:Our “The Voice” candidate\, Rob Cole\, is performing at Your Pie Pizza!  It’s Thursday night!  Join Rob to hear his storytelling music\, new song releases and news from far and near.  Order a specialty made-to-your-liking pizza with a favorite beverage\, maybe gelato for dessert\, then relax and enjoy the evening.
URL:https://www.lumberton-nc.com/event/rob-cole-your-pie-pizza-9/
LOCATION:Your Pie Pizza\, 5130 Fayetteville Road\, Lumberton\, North Carolina\, 29360
ATTACH;FMTTYPE=image/jpeg:https://www.lumberton-nc.com/wp-content/uploads/Rob-Cole2.jpg
ORGANIZER;CN="Your Pie Pizza":MAILTO:kfraley2450@gmail.com
END:VEVENT
BEGIN:VEVENT
DTSTART;TZID=America/New_York:20260521T190000
DTEND;TZID=America/New_York:20260521T210000
DTSTAMP:20260423T064913
CREATED:20260206T200940Z
LAST-MODIFIED:20260206T201024Z
UID:10006529-1779390000-1779397200@www.lumberton-nc.com
SUMMARY:Alive After 5 Concert Series - The Tams
DESCRIPTION:It’s Thursday and the Tams are performing in historic downtown Lumberton at the Dick Taylor Plaza.  The Tams are know for their beach music\, R&B\, soul\, just a variety of platforms that pleases the audience.  Dance the night away or just relax and enjoy the show. \nSome seating is available but you are encouraged to bring your own folding chair for resting between dances.  More details to come.  SAVE THE DATE!!!
URL:https://www.lumberton-nc.com/event/alive-after-5-concert-series-the-tams/
LOCATION:Dick Taylor Plaza (Historic Downtown)\, 111 E 3rd Street\, Lumberton\, NC\, 28358\, United States
ATTACH;FMTTYPE=image/jpeg:https://www.lumberton-nc.com/wp-content/uploads/Tams-Wayx-1-002.jpg
ORGANIZER;CN="Main Street Lumberton":MAILTO:sward@ci.lumberton.nc.us
END:VEVENT
BEGIN:VEVENT
DTSTART;TZID=America/New_York:20260523T093000
DTEND;TZID=America/New_York:20260523T093000
DTSTAMP:20260423T064913
CREATED:20260209T150321Z
LAST-MODIFIED:20260209T150701Z
UID:10006530-1779528600-1779528600@www.lumberton-nc.com
SUMMARY:Da Bomb Barrel Racing - SNCAEC
DESCRIPTION:Summa Slamma barrel racing is happening at the Southeastern NC Agricultural Events Center!  Activities begin at 9:00am.  Refer to the flyer listed above for details.
URL:https://www.lumberton-nc.com/event/da-bomb-barrel-racing-sncaec-2/
LOCATION:Southeastern North Carolina Agricultural Events Center\, 1027 Hwy 74 East\, Lumberton\, NC\, 28358\, United States
ATTACH;FMTTYPE=image/jpeg:https://www.lumberton-nc.com/wp-content/uploads/Da-Bomb-Barrel-racing.jpg
ORGANIZER;CN="Josh Smith":MAILTO:dabombbarrels@yahoo.com
END:VEVENT
BEGIN:VEVENT
DTSTART;TZID=America/New_York:20260523T120000
DTEND;TZID=America/New_York:20260523T120000
DTSTAMP:20260423T064913
CREATED:20260128T204043Z
LAST-MODIFIED:20260309T145024Z
UID:10006498-1779537600-1779537600@www.lumberton-nc.com
SUMMARY:John P. Williamson Memorial Golf Tournament
DESCRIPTION:Date changed to the 23 of May!!!  This is the 23rd annual John P. Williamson Memorial Golf Tournament and benefits from the tournament go to the Robeson County Humane Society.  Lunch is at Noon.  A shotgun start is at 1:00pm\, $300 per 3 player team or $100 per individual.  See other details on the above flyer.  Sponsor a hole for this worthy cause!  Enjoy the game.
URL:https://www.lumberton-nc.com/event/john-p-williamson-memorial-golf-tournament-2/
LOCATION:Pine Crest Country Club\, 110 Nigel Rd.\, Lumberton\, NC\, 28360\, United States
ATTACH;FMTTYPE=image/jpeg:https://www.lumberton-nc.com/wp-content/uploads/John-P-Williamson-Golf-2026.jpg
END:VEVENT
BEGIN:VEVENT
DTSTART;TZID=America/New_York:20260526T110000
DTEND;TZID=America/New_York:20260526T160000
DTSTAMP:20260423T064913
CREATED:20260422T145015Z
LAST-MODIFIED:20260422T145015Z
UID:10006682-1779793200-1779811200@www.lumberton-nc.com
SUMMARY:Artist Choice/Remembrance Poppy Exhibition - RAG
DESCRIPTION:The Robeson Art Guild invites members\, friends and visitors to view the Artist Choice/Remembrance Poppy Exhibition.  There is always something interesting going on at the Guild House.  Wander through the exhibition and stop in the shop for gifts to purchase.  The Guild House is open on Tuesdays and Thursdays from 11:00am to 4:00pm and other times by appointment.  Check out the website listed below for classes and other special events.
URL:https://www.lumberton-nc.com/event/artist-choice-remembrance-poppy-exhibition-rag-2/2026-05-26/
LOCATION:Robeson Art Guild\, 109 West 9th Street\, Lumberton\, NC\, 28358
ATTACH;FMTTYPE=image/webp:https://www.lumberton-nc.com/wp-content/uploads/RAG-Poppy.webp
ORGANIZER;CN="Robeson Art Guild":MAILTO:info@robesonartguild.org
END:VEVENT
BEGIN:VEVENT
DTSTART;TZID=America/New_York:20260528T110000
DTEND;TZID=America/New_York:20260528T160000
DTSTAMP:20260423T064913
CREATED:20260422T145015Z
LAST-MODIFIED:20260422T145015Z
UID:10006683-1779966000-1779984000@www.lumberton-nc.com
SUMMARY:Artist Choice/Remembrance Poppy Exhibition - RAG
DESCRIPTION:The Robeson Art Guild invites members\, friends and visitors to view the Artist Choice/Remembrance Poppy Exhibition.  There is always something interesting going on at the Guild House.  Wander through the exhibition and stop in the shop for gifts to purchase.  The Guild House is open on Tuesdays and Thursdays from 11:00am to 4:00pm and other times by appointment.  Check out the website listed below for classes and other special events.
URL:https://www.lumberton-nc.com/event/artist-choice-remembrance-poppy-exhibition-rag-2/2026-05-28/
LOCATION:Robeson Art Guild\, 109 West 9th Street\, Lumberton\, NC\, 28358
ATTACH;FMTTYPE=image/webp:https://www.lumberton-nc.com/wp-content/uploads/RAG-Poppy.webp
ORGANIZER;CN="Robeson Art Guild":MAILTO:info@robesonartguild.org
END:VEVENT
BEGIN:VEVENT
DTSTART;TZID=America/New_York:20260528T190000
DTEND;TZID=America/New_York:20260528T190000
DTSTAMP:20260423T064913
CREATED:20260130T171520Z
LAST-MODIFIED:20260130T171520Z
UID:10006500-1779994800-1779994800@www.lumberton-nc.com
SUMMARY:Alive After 5 Concert Series
DESCRIPTION:SAVE THE DATE!  The Band of Oz is performing at the Dick Taylor Plaza in historic downtown Lumberton.  Some seating is available but suggest that you bring your own special chair and enjoy some live music\, then leave that chair for resting by dancing to the beat!
URL:https://www.lumberton-nc.com/event/alive-after-5-concert-series/
LOCATION:Dick Taylor Plaza (Historic Downtown)\, 111 E 3rd Street\, Lumberton\, NC\, 28358\, United States
ATTACH;FMTTYPE=image/jpeg:https://www.lumberton-nc.com/wp-content/uploads/BandofOz1.jpg
ORGANIZER;CN="Main Street Lumberton":MAILTO:sward@ci.lumberton.nc.us
END:VEVENT
BEGIN:VEVENT
DTSTART;TZID=America/New_York:20260528T190000
DTEND;TZID=America/New_York:20260528T190000
DTSTAMP:20260423T064913
CREATED:20260318T194707Z
LAST-MODIFIED:20260318T195036Z
UID:10006623-1779994800-1779994800@www.lumberton-nc.com
SUMMARY:Scarlet Tantrum - Your Pie Pizza
DESCRIPTION:Scarlet Tantrum is an alt-rock artist known for powerful vocals\, high-energy performances\, and honest\, emotional songs.  She is performing live at Your Pie Pizza!  Enjoy your favorite pizza\, beverage and gelato while listening to Scarlet’s music.
URL:https://www.lumberton-nc.com/event/scarlet-tantrum-your-pie-pizza-3/
LOCATION:Your Pie Pizza\, 5130 Fayetteville Road\, Lumberton\, North Carolina\, 29360
ATTACH;FMTTYPE=image/png:https://www.lumberton-nc.com/wp-content/uploads/Scarlette-.png
ORGANIZER;CN="Your Pie Pizza":MAILTO:kfraley2450@gmail.com
END:VEVENT
BEGIN:VEVENT
DTSTART;TZID=America/New_York:20260530T120000
DTEND;TZID=America/New_York:20260530T160000
DTSTAMP:20260423T064913
CREATED:20260420T164146Z
LAST-MODIFIED:20260420T164559Z
UID:10006669-1780142400-1780156800@www.lumberton-nc.com
SUMMARY:Shibori Indigo Dyed Scarf Class - RAG
DESCRIPTION:The Robeson Art Guild is hosting a workshop for learning how to use indigo dye to create a one-of-a-kind scarf.  Other items may be acceptable for dying\, so visit the website listed below for more details about the workshop.  The fee is $58 for members of the Guild and $65 for nonmembers.  Seating is limited to 12\, so register early.
URL:https://www.lumberton-nc.com/event/shibori-indigo-dyed-scarf-class-rag/
LOCATION:Robeson Art Guild\, 109 West 9th Street\, Lumberton\, NC\, 28358
ATTACH;FMTTYPE=image/jpeg:https://www.lumberton-nc.com/wp-content/uploads/RAG-Shibori-Indigo-Dyed-Scarf.jpg
ORGANIZER;CN="Robeson Art Guild":MAILTO:info@robesonartguild.org
END:VEVENT
BEGIN:VEVENT
DTSTART;TZID=America/New_York:20260602T110000
DTEND;TZID=America/New_York:20260602T160000
DTSTAMP:20260423T064913
CREATED:20260422T145015Z
LAST-MODIFIED:20260422T145015Z
UID:10006684-1780398000-1780416000@www.lumberton-nc.com
SUMMARY:Artist Choice/Remembrance Poppy Exhibition - RAG
DESCRIPTION:The Robeson Art Guild invites members\, friends and visitors to view the Artist Choice/Remembrance Poppy Exhibition.  There is always something interesting going on at the Guild House.  Wander through the exhibition and stop in the shop for gifts to purchase.  The Guild House is open on Tuesdays and Thursdays from 11:00am to 4:00pm and other times by appointment.  Check out the website listed below for classes and other special events.
URL:https://www.lumberton-nc.com/event/artist-choice-remembrance-poppy-exhibition-rag-2/2026-06-02/
LOCATION:Robeson Art Guild\, 109 West 9th Street\, Lumberton\, NC\, 28358
ATTACH;FMTTYPE=image/webp:https://www.lumberton-nc.com/wp-content/uploads/RAG-Poppy.webp
ORGANIZER;CN="Robeson Art Guild":MAILTO:info@robesonartguild.org
END:VEVENT
BEGIN:VEVENT
DTSTART;TZID=America/New_York:20260604T110000
DTEND;TZID=America/New_York:20260604T160000
DTSTAMP:20260423T064913
CREATED:20260422T145015Z
LAST-MODIFIED:20260422T145015Z
UID:10006685-1780570800-1780588800@www.lumberton-nc.com
SUMMARY:Artist Choice/Remembrance Poppy Exhibition - RAG
DESCRIPTION:The Robeson Art Guild invites members\, friends and visitors to view the Artist Choice/Remembrance Poppy Exhibition.  There is always something interesting going on at the Guild House.  Wander through the exhibition and stop in the shop for gifts to purchase.  The Guild House is open on Tuesdays and Thursdays from 11:00am to 4:00pm and other times by appointment.  Check out the website listed below for classes and other special events.
URL:https://www.lumberton-nc.com/event/artist-choice-remembrance-poppy-exhibition-rag-2/2026-06-04/
LOCATION:Robeson Art Guild\, 109 West 9th Street\, Lumberton\, NC\, 28358
ATTACH;FMTTYPE=image/webp:https://www.lumberton-nc.com/wp-content/uploads/RAG-Poppy.webp
ORGANIZER;CN="Robeson Art Guild":MAILTO:info@robesonartguild.org
END:VEVENT
BEGIN:VEVENT
DTSTART;TZID=America/New_York:20260604T190000
DTEND;TZID=America/New_York:20260604T190000
DTSTAMP:20260423T064913
CREATED:20260130T172156Z
LAST-MODIFIED:20260130T172156Z
UID:10006501-1780599600-1780599600@www.lumberton-nc.com
SUMMARY:Alive After 5 Concert Series
DESCRIPTION:The Blackwater Band is performing at the Dick Taylor Plaza in historic downtown Lumberton.  Some seating is available.  However\, if you wish to bring your own chair\, please do so.  SAVE THE DATE!  More details to follow!
URL:https://www.lumberton-nc.com/event/alive-after-5-concert-series-2/
LOCATION:Dick Taylor Plaza (Historic Downtown)\, 111 E 3rd Street\, Lumberton\, NC\, 28358\, United States
ATTACH;FMTTYPE=image/png:https://www.lumberton-nc.com/wp-content/uploads/Blackwater-Band-1.png
ORGANIZER;CN="Sarah Beth Ward":MAILTO:sward@ci.lumberton.nc.us
END:VEVENT
BEGIN:VEVENT
DTSTART;TZID=America/New_York:20260604T190000
DTEND;TZID=America/New_York:20260604T190000
DTSTAMP:20260423T064913
CREATED:20260318T200923Z
LAST-MODIFIED:20260318T200923Z
UID:10006624-1780599600-1780599600@www.lumberton-nc.com
SUMMARY:Sean Mills - Your Pie Pizza
DESCRIPTION:Come on out and enjoy the beautiful music of Sean Mills!  Enjoy a made-to-your-liking pizza along with a chosen cold beverage and gelato for dessert.  Relax and enjoy the evening!
URL:https://www.lumberton-nc.com/event/sean-mills-your-pie-pizza-7/
LOCATION:Your Pie Pizza\, 5130 Fayetteville Road\, Lumberton\, North Carolina\, 29360
ATTACH;FMTTYPE=image/jpeg:https://www.lumberton-nc.com/wp-content/uploads/Sean-Mills-1.jpg
ORGANIZER;CN="Your Pie Pizza":MAILTO:kfraley2450@gmail.com
END:VEVENT
END:VCALENDAR