BEGIN:VCALENDAR
VERSION:2.0
PRODID:-//Lumberton Visitor&#039;s Bureau - ECPv6.15.20//NONSGML v1.0//EN
CALSCALE:GREGORIAN
METHOD:PUBLISH
X-ORIGINAL-URL:https://www.lumberton-nc.com
X-WR-CALDESC:Events for Lumberton Visitor&#039;s Bureau
REFRESH-INTERVAL;VALUE=DURATION:PT1H
X-Robots-Tag:noindex
X-PUBLISHED-TTL:PT1H
BEGIN:VTIMEZONE
TZID:America/New_York
BEGIN:DAYLIGHT
TZOFFSETFROM:-0500
TZOFFSETTO:-0400
TZNAME:EDT
DTSTART:20240310T070000
END:DAYLIGHT
BEGIN:STANDARD
TZOFFSETFROM:-0400
TZOFFSETTO:-0500
TZNAME:EST
DTSTART:20241103T060000
END:STANDARD
BEGIN:DAYLIGHT
TZOFFSETFROM:-0500
TZOFFSETTO:-0400
TZNAME:EDT
DTSTART:20250309T070000
END:DAYLIGHT
BEGIN:STANDARD
TZOFFSETFROM:-0400
TZOFFSETTO:-0500
TZNAME:EST
DTSTART:20251102T060000
END:STANDARD
BEGIN:DAYLIGHT
TZOFFSETFROM:-0500
TZOFFSETTO:-0400
TZNAME:EDT
DTSTART:20260308T070000
END:DAYLIGHT
BEGIN:STANDARD
TZOFFSETFROM:-0400
TZOFFSETTO:-0500
TZNAME:EST
DTSTART:20261101T060000
END:STANDARD
END:VTIMEZONE
BEGIN:VEVENT
DTSTART;TZID=America/New_York:20250108T120000
DTEND;TZID=America/New_York:20250108T150000
DTSTAMP:20260422T093924
CREATED:20241127T181514Z
LAST-MODIFIED:20241127T200501Z
UID:10005334-1736337600-1736348400@www.lumberton-nc.com
SUMMARY:Material Integration II - Red Springs ArtSpace
DESCRIPTION:Red Springs Artspace is hosting “Material Integration II”\, a solo art exhibition by Ray Im. Ray Im is a Korean-born American lens-based artist and ceramicist. He blends traditional techniques of ceramics and photography to create a unique presentation in space. While examining the relationship between the two mediums\, he offers a fresh perspective on the interplay between tradition and modernity in object and installation settings. He utilizes the German Deadpan style in his photography\, giving his images a cool\, detached\, and emotionless quality\, an approach that carries over into his interdisciplinary installation sculptures and pottery works. \nRed Springs ArtSpace is open to the public each Wednesday from 12:00pm to 3:00pm and each Sunday from 2:00pm – 4:00pm and by appointment.
URL:https://www.lumberton-nc.com/event/material-integration-ii-red-springs-artspace/2025-01-08/
LOCATION:Red Springs Artspace\, 200 South Main Street\, Red Springs\, North Carolina\, 28377
ORGANIZER;CN="Red Springs Artspace":MAILTO:contact@redspringsart.space
END:VEVENT
BEGIN:VEVENT
DTSTART;TZID=America/New_York:20250108T160000
DTEND;TZID=America/New_York:20250108T220000
DTSTAMP:20260422T093924
CREATED:20241206T204706Z
LAST-MODIFIED:20241210T152020Z
UID:10005355-1736352000-1736373600@www.lumberton-nc.com
SUMMARY:Retro City Arcade Kidz Night
DESCRIPTION:Retro City Arcade Bar and Pizzeria hosts Kidz Night each Wednesday.  Children under 18 play for only $5.00.  No entry fee for monitoring children or enjoying the restaurant.  Enjoy!
URL:https://www.lumberton-nc.com/event/retro-city-arcade-kidz-night/2025-01-08/
LOCATION:Retro City Arcade Bar & Pizzeria\, 328 Eat 24th Street\, Lumberton\, North Carolina\, 28358
ATTACH;FMTTYPE=image/jpeg:https://www.lumberton-nc.com/wp-content/uploads/kidz-night.jpg
END:VEVENT
BEGIN:VEVENT
DTSTART;TZID=America/New_York:20250108T170000
DTEND;TZID=America/New_York:20250108T170000
DTSTAMP:20260422T093924
CREATED:20241213T171135Z
LAST-MODIFIED:20241213T171135Z
UID:10005393-1736355600-1736355600@www.lumberton-nc.com
SUMMARY:Basketball - UNCP Women
DESCRIPTION:Barton University women’s basketball team is on campus for a game against the UNCP Braves women’s team.  Come out for an exciting game and bring friends and family.  Go Braves!!!
URL:https://www.lumberton-nc.com/event/basketball-uncp-women-17/
LOCATION:Lumbee Guaranty Bank Court\, 403 East 3rd Street\, Pembroke\, North Carolina\, 28372
ATTACH;FMTTYPE=image/jpeg:https://www.lumberton-nc.com/wp-content/uploads/UNCP-Women-Basketball1.jpg
END:VEVENT
BEGIN:VEVENT
DTSTART;TZID=America/New_York:20250108T190000
DTEND;TZID=America/New_York:20250108T190000
DTSTAMP:20260422T093924
CREATED:20241212T173818Z
LAST-MODIFIED:20241212T173818Z
UID:10005381-1736362800-1736362800@www.lumberton-nc.com
SUMMARY:Basketball - UNCP Men
DESCRIPTION:UNCP Men’s Basketball Team welcomes the Barton College Bulldogs to campus for a scheduled basketball game at 7:00pm.  Join the festivities with family and friends.  It’s “Faith and Community Night”.  Go Braves!
URL:https://www.lumberton-nc.com/event/basketball-uncp-men-2/
LOCATION:Lumbee Guaranty Bank Court\, 403 East 3rd Street\, Pembroke\, North Carolina\, 28372
ATTACH;FMTTYPE=image/jpeg:https://www.lumberton-nc.com/wp-content/uploads/UNCP-Basketball-Player2-crop1.jpg
END:VEVENT
BEGIN:VEVENT
DTSTART;TZID=America/New_York:20250109T190000
DTEND;TZID=America/New_York:20250109T190000
DTSTAMP:20260422T093924
CREATED:20241127T204453Z
LAST-MODIFIED:20241127T204716Z
UID:10005341-1736449200-1736449200@www.lumberton-nc.com
SUMMARY:12th Night Christmas Concert for the Animals - CCC
DESCRIPTION:The Carolina Civic Center Historic Theater is hosting a benefit concert for Franny’s Friends\, an animal adoption agency\, on January 9\, 2025 at 7:00pm.  The evening features several local artists and special interest guests.  Tickets are $20 and available for purchase at 219 Elm Coffee and Antique Shop.
URL:https://www.lumberton-nc.com/event/12th-night-christmas-concert-for-the-animals-ccc/
LOCATION:Carolina Civic Center Historic Theater\, 315 North Chestnut Street\, Lumberton\, NC\, 28358\, United States
END:VEVENT
BEGIN:VEVENT
DTSTART;TZID=America/New_York:20250109T190000
DTEND;TZID=America/New_York:20250109T190000
DTSTAMP:20260422T093924
CREATED:20250103T205947Z
LAST-MODIFIED:20250106T213521Z
UID:10005444-1736449200-1736449200@www.lumberton-nc.com
SUMMARY:Tyrek Hearon @ Your Pie Pizza
DESCRIPTION:It’s live music night at Your Pie Pizza Restaurant!  Create your own favorite pizza\, grab a brew or beverage\, listen to tunes by Tyrek Hearon and enjoy gelato for dessert.  It’s a great place to be!
URL:https://www.lumberton-nc.com/event/tyrek-hearon-your-pie-pizza/
LOCATION:Your Pie Pizza\, 5130 Fayetteville Road\, Lumberton\, North Carolina\, 29360
ATTACH;FMTTYPE=image/png:https://www.lumberton-nc.com/wp-content/uploads/Tyrek-Hearon-1.png
ORGANIZER;CN="Your Pie Pizza":MAILTO:kfraley2450@gmail.com
END:VEVENT
BEGIN:VEVENT
DTSTART;TZID=America/New_York:20250110T120000
DTEND;TZID=America/New_York:20250110T120000
DTSTAMP:20260422T093924
CREATED:20250106T144149Z
LAST-MODIFIED:20250106T144441Z
UID:10005448-1736510400-1736510400@www.lumberton-nc.com
SUMMARY:National Human Trafficking Awareness Day
DESCRIPTION:IT’S WEAR BLUE DAY!  Meet at the Dick Taylor Plaza in Historic Downtown Lumberton for a gathering in supporting National Human Trafficking Awareness Day.  The guest speaker is Tenley “Nikki” Locklear.  Learn about human trafficking and its impact on our indigenous communities.
URL:https://www.lumberton-nc.com/event/national-human-trafficking-awareness-day-2/
LOCATION:Dick Taylor Plaza (Historic Downtown)\, 111 E 3rd Street\, Lumberton\, NC\, 28358\, United States
ORGANIZER;CN="Robeson County Sheriff's Department":MAILTO:sheriff@robesonsoso.org
END:VEVENT
BEGIN:VEVENT
DTSTART;TZID=America/New_York:20250111T100000
DTEND;TZID=America/New_York:20250111T100000
DTSTAMP:20260422T093924
CREATED:20241231T215527Z
LAST-MODIFIED:20241231T215645Z
UID:10005422-1736589600-1736589600@www.lumberton-nc.com
SUMMARY:Bully Breed Dog Show
DESCRIPTION:The Bully Breed Dog Show is at Southeastern NC Agricultural Events Center in the annex.  Follow signs for the location.
URL:https://www.lumberton-nc.com/event/bully-breed-dog-show-5-2/
LOCATION:Southeastern North Carolina Agricultural Events Center\, 1027 Hwy 74 East\, Lumberton\, NC\, 28358\, United States
ATTACH;FMTTYPE=image/jpeg:https://www.lumberton-nc.com/wp-content/uploads/Bully-Dog-Show-January.jpeg
END:VEVENT
BEGIN:VEVENT
DTSTART;TZID=America/New_York:20250111T140000
DTEND;TZID=America/New_York:20250111T140000
DTSTAMP:20260422T093924
CREATED:20241213T171459Z
LAST-MODIFIED:20241213T171459Z
UID:10005394-1736604000-1736604000@www.lumberton-nc.com
SUMMARY:Basketball - UNCP Women
DESCRIPTION:The King University Tornados are on campus for a basketball game at 2:00pm.  Come out and support the teams and enjoy an exciting game.  Go Braves!!!
URL:https://www.lumberton-nc.com/event/basketball-uncp-women-18/
LOCATION:Lumbee Guaranty Bank Court\, 403 East 3rd Street\, Pembroke\, North Carolina\, 28372
ATTACH;FMTTYPE=image/jpeg:https://www.lumberton-nc.com/wp-content/uploads/UNCP-Women-Basketball1.jpg
END:VEVENT
BEGIN:VEVENT
DTSTART;TZID=America/New_York:20250111T160000
DTEND;TZID=America/New_York:20250111T160000
DTSTAMP:20260422T093924
CREATED:20241212T174537Z
LAST-MODIFIED:20241212T174537Z
UID:10005382-1736611200-1736611200@www.lumberton-nc.com
SUMMARY:Basketball - UNCP Men
DESCRIPTION:The UNCP Braves welcome the King University Tornados to campus for a basketball challenge.  Join the game and festivities at 4:00pm.  It is Youth Day on the UNCP campus.
URL:https://www.lumberton-nc.com/event/basketball-uncp-men-3/
LOCATION:Lumbee Guaranty Bank Court\, 403 East 3rd Street\, Pembroke\, North Carolina\, 28372
ATTACH;FMTTYPE=image/jpeg:https://www.lumberton-nc.com/wp-content/uploads/UNCP-Basketball-Player2-crop1.jpg
END:VEVENT
BEGIN:VEVENT
DTSTART;TZID=America/New_York:20250111T200000
DTEND;TZID=America/New_York:20250111T200000
DTSTAMP:20260422T093924
CREATED:20241206T203640Z
LAST-MODIFIED:20241210T175237Z
UID:10005350-1736625600-1736625600@www.lumberton-nc.com
SUMMARY:Retro City Arcade Bar & Pizzeria - Karaoke Nights
DESCRIPTION:Retro City Arcade Bar & Pizzeria feature Karaoke Night each Saturday night.  Practice makes perfect\, (they say)\, so join the group on Karaoke night at the arcade.  Age 21 and older only.
URL:https://www.lumberton-nc.com/event/retro-city-arcade-bar-pizzeria-karaoke-nights/2025-01-11/
LOCATION:Retro City Arcade Bar & Pizzeria\, 328 Eat 24th Street\, Lumberton\, North Carolina\, 28358
ATTACH;FMTTYPE=image/jpeg:https://www.lumberton-nc.com/wp-content/uploads/Karaoke-night.jpg
END:VEVENT
BEGIN:VEVENT
DTSTART;TZID=America/New_York:20250112T140000
DTEND;TZID=America/New_York:20250112T160000
DTSTAMP:20260422T093924
CREATED:20241127T181514Z
LAST-MODIFIED:20241127T200501Z
UID:10005336-1736690400-1736697600@www.lumberton-nc.com
SUMMARY:Material Integration II - Red Springs ArtSpace
DESCRIPTION:Red Springs Artspace is hosting “Material Integration II”\, a solo art exhibition by Ray Im. Ray Im is a Korean-born American lens-based artist and ceramicist. He blends traditional techniques of ceramics and photography to create a unique presentation in space. While examining the relationship between the two mediums\, he offers a fresh perspective on the interplay between tradition and modernity in object and installation settings. He utilizes the German Deadpan style in his photography\, giving his images a cool\, detached\, and emotionless quality\, an approach that carries over into his interdisciplinary installation sculptures and pottery works. \nRed Springs ArtSpace is open to the public each Wednesday from 12:00pm to 3:00pm and each Sunday from 2:00pm – 4:00pm and by appointment.
URL:https://www.lumberton-nc.com/event/material-integration-ii-red-springs-artspace/2025-01-12/
LOCATION:Red Springs Artspace\, 200 South Main Street\, Red Springs\, North Carolina\, 28377
ORGANIZER;CN="Red Springs Artspace":MAILTO:contact@redspringsart.space
END:VEVENT
BEGIN:VEVENT
DTSTART;TZID=America/New_York:20250115T120000
DTEND;TZID=America/New_York:20250115T150000
DTSTAMP:20260422T093924
CREATED:20241127T181514Z
LAST-MODIFIED:20241127T200501Z
UID:10005337-1736942400-1736953200@www.lumberton-nc.com
SUMMARY:Material Integration II - Red Springs ArtSpace
DESCRIPTION:Red Springs Artspace is hosting “Material Integration II”\, a solo art exhibition by Ray Im. Ray Im is a Korean-born American lens-based artist and ceramicist. He blends traditional techniques of ceramics and photography to create a unique presentation in space. While examining the relationship between the two mediums\, he offers a fresh perspective on the interplay between tradition and modernity in object and installation settings. He utilizes the German Deadpan style in his photography\, giving his images a cool\, detached\, and emotionless quality\, an approach that carries over into his interdisciplinary installation sculptures and pottery works. \nRed Springs ArtSpace is open to the public each Wednesday from 12:00pm to 3:00pm and each Sunday from 2:00pm – 4:00pm and by appointment.
URL:https://www.lumberton-nc.com/event/material-integration-ii-red-springs-artspace/2025-01-15/
LOCATION:Red Springs Artspace\, 200 South Main Street\, Red Springs\, North Carolina\, 28377
ORGANIZER;CN="Red Springs Artspace":MAILTO:contact@redspringsart.space
END:VEVENT
BEGIN:VEVENT
DTSTART;TZID=America/New_York:20250115T160000
DTEND;TZID=America/New_York:20250115T220000
DTSTAMP:20260422T093924
CREATED:20241206T204706Z
LAST-MODIFIED:20241210T152020Z
UID:10005356-1736956800-1736978400@www.lumberton-nc.com
SUMMARY:Retro City Arcade Kidz Night
DESCRIPTION:Retro City Arcade Bar and Pizzeria hosts Kidz Night each Wednesday.  Children under 18 play for only $5.00.  No entry fee for monitoring children or enjoying the restaurant.  Enjoy!
URL:https://www.lumberton-nc.com/event/retro-city-arcade-kidz-night/2025-01-15/
LOCATION:Retro City Arcade Bar & Pizzeria\, 328 Eat 24th Street\, Lumberton\, North Carolina\, 28358
ATTACH;FMTTYPE=image/jpeg:https://www.lumberton-nc.com/wp-content/uploads/kidz-night.jpg
END:VEVENT
BEGIN:VEVENT
DTSTART;TZID=America/New_York:20250116T180000
DTEND;TZID=America/New_York:20250116T180000
DTSTAMP:20260422T093924
CREATED:20241219T162048Z
LAST-MODIFIED:20241219T162250Z
UID:10005428-1737050400-1737050400@www.lumberton-nc.com
SUMMARY:Canines For Service
DESCRIPTION:Learn about Canines for Service at a fundraising event at Happenings on Elm.  The program involves information on how the trained canines help Veterans cope with Traumatic Distress Disorder and other traumatic conditions.  The evening is $45 excluding tax and gratuity.  Some proceeds will go to Canines for Service.  Text 910-734-0668 to register.
URL:https://www.lumberton-nc.com/event/canines-for-service/
LOCATION:Happenings on Elm\, 605 North Elm Street\, Lumberton\, North Carolina\, 28358
END:VEVENT
BEGIN:VEVENT
DTSTART;TZID=America/New_York:20250116T183000
DTEND;TZID=America/New_York:20250116T200000
DTSTAMP:20260422T093924
CREATED:20241125T194823Z
LAST-MODIFIED:20241231T202143Z
UID:10005323-1737052200-1737057600@www.lumberton-nc.com
SUMMARY:Visiting Authors and Social
DESCRIPTION:The Visiting Authors and Social sponsored by Friends of the Robeson County Public Library is hosting Maggie Thom/Glenna Mageau\, author of suspense and mystery books.  This is a video event.  The event is free and open to the public. \n 
URL:https://www.lumberton-nc.com/event/16636/
LOCATION:Osterneck Auditorium\, 102 North Chestnut Street\, Lumberton\, North Carolina\, 29358
ATTACH;FMTTYPE=image/png:https://www.lumberton-nc.com/wp-content/uploads/Visiting-Authors-Maggie-Thom-002.png
END:VEVENT
BEGIN:VEVENT
DTSTART;TZID=America/New_York:20250116T190000
DTEND;TZID=America/New_York:20250116T190000
DTSTAMP:20260422T093924
CREATED:20250103T210736Z
LAST-MODIFIED:20250103T210736Z
UID:10005445-1737054000-1737054000@www.lumberton-nc.com
SUMMARY:Prettier Than Matt @ Your Pie Pizza
DESCRIPTION:Its live music night at Your Pie Pizza Restaurant!  The Prettier than Matt duo is singing tunes and entertaining tonight at 7:00pm.  Enjoy your favorite pizza\, brew and gelato for dessert.
URL:https://www.lumberton-nc.com/event/prettier-than-matt-your-pie-pizza-2/
LOCATION:Your Pie Pizza\, 5130 Fayetteville Road\, Lumberton\, North Carolina\, 29360
ATTACH;FMTTYPE=image/jpeg:https://www.lumberton-nc.com/wp-content/uploads/Your-Pie-Music-lineup-2025.jpg
ORGANIZER;CN="Your Pie Pizza":MAILTO:kfraley2450@gmail.com
END:VEVENT
BEGIN:VEVENT
DTSTART;TZID=America/New_York:20250117T170000
DTEND;TZID=America/New_York:20250117T170000
DTSTAMP:20260422T093924
CREATED:20241127T182327Z
LAST-MODIFIED:20250110T181659Z
UID:10005335-1737133200-1737133200@www.lumberton-nc.com
SUMMARY:Material Integration II - Exhibition Reception
DESCRIPTION:Red Springs ArtSpace is hosting a reception for viewing Material Integration II\, a solo art exhibition by Ray Im.  The reception is in the main gallery.  Meet the artist and enjoy light refreshments.
URL:https://www.lumberton-nc.com/event/material-integrtion-ii-exhibition-reception/
LOCATION:Red Springs Artspace\, 200 South Main Street\, Red Springs\, North Carolina\, 28377
ORGANIZER;CN="Red Springs Artspace":MAILTO:contact@redspringsart.space
END:VEVENT
BEGIN:VEVENT
DTSTART;TZID=America/New_York:20250118T140000
DTEND;TZID=America/New_York:20250118T140000
DTSTAMP:20260422T093924
CREATED:20241213T172158Z
LAST-MODIFIED:20241213T172158Z
UID:10005395-1737208800-1737208800@www.lumberton-nc.com
SUMMARY:Basketball - UNCP Women
DESCRIPTION:The UNCP Braves welcome the Belmont Abbey Crusaders to campus for a basketball challenge.  The game is at 2:00pm.  Come cheer the teams and make the game more exciting.  Go Braves!!!
URL:https://www.lumberton-nc.com/event/basketball-uncp-women-19/
LOCATION:Lumbee Guaranty Bank Court\, 403 East 3rd Street\, Pembroke\, North Carolina\, 28372
ATTACH;FMTTYPE=image/jpeg:https://www.lumberton-nc.com/wp-content/uploads/UNCP-Women-Basketball1.jpg
END:VEVENT
BEGIN:VEVENT
DTSTART;TZID=America/New_York:20250118T160000
DTEND;TZID=America/New_York:20250118T160000
DTSTAMP:20260422T093924
CREATED:20241212T175221Z
LAST-MODIFIED:20241212T175252Z
UID:10005383-1737216000-1737216000@www.lumberton-nc.com
SUMMARY:Basketball - UNCP Men
DESCRIPTION:Bring family and friends to watch the Braves as they challenge the Belmont Abbey Crusaders in a basketball game at 4:oopm.  It is “Black Out Night and Military Appreciation Night on the Braves campus.
URL:https://www.lumberton-nc.com/event/basketball-uncp-men-4/
LOCATION:Lumbee Guaranty Bank Court\, 403 East 3rd Street\, Pembroke\, North Carolina\, 28372
ATTACH;FMTTYPE=image/jpeg:https://www.lumberton-nc.com/wp-content/uploads/UNCP-Basketball-Player2-crop1.jpg
END:VEVENT
BEGIN:VEVENT
DTSTART;TZID=America/New_York:20250118T200000
DTEND;TZID=America/New_York:20250118T200000
DTSTAMP:20260422T093924
CREATED:20241206T203640Z
LAST-MODIFIED:20241210T175237Z
UID:10005351-1737230400-1737230400@www.lumberton-nc.com
SUMMARY:Retro City Arcade Bar & Pizzeria - Karaoke Nights
DESCRIPTION:Retro City Arcade Bar & Pizzeria feature Karaoke Night each Saturday night.  Practice makes perfect\, (they say)\, so join the group on Karaoke night at the arcade.  Age 21 and older only.
URL:https://www.lumberton-nc.com/event/retro-city-arcade-bar-pizzeria-karaoke-nights/2025-01-18/
LOCATION:Retro City Arcade Bar & Pizzeria\, 328 Eat 24th Street\, Lumberton\, North Carolina\, 28358
ATTACH;FMTTYPE=image/jpeg:https://www.lumberton-nc.com/wp-content/uploads/Karaoke-night.jpg
END:VEVENT
BEGIN:VEVENT
DTSTART;TZID=America/New_York:20250119T140000
DTEND;TZID=America/New_York:20250119T160000
DTSTAMP:20260422T093924
CREATED:20241127T181514Z
LAST-MODIFIED:20241127T200501Z
UID:10005338-1737295200-1737302400@www.lumberton-nc.com
SUMMARY:Material Integration II - Red Springs ArtSpace
DESCRIPTION:Red Springs Artspace is hosting “Material Integration II”\, a solo art exhibition by Ray Im. Ray Im is a Korean-born American lens-based artist and ceramicist. He blends traditional techniques of ceramics and photography to create a unique presentation in space. While examining the relationship between the two mediums\, he offers a fresh perspective on the interplay between tradition and modernity in object and installation settings. He utilizes the German Deadpan style in his photography\, giving his images a cool\, detached\, and emotionless quality\, an approach that carries over into his interdisciplinary installation sculptures and pottery works. \nRed Springs ArtSpace is open to the public each Wednesday from 12:00pm to 3:00pm and each Sunday from 2:00pm – 4:00pm and by appointment.
URL:https://www.lumberton-nc.com/event/material-integration-ii-red-springs-artspace/2025-01-19/
LOCATION:Red Springs Artspace\, 200 South Main Street\, Red Springs\, North Carolina\, 28377
ORGANIZER;CN="Red Springs Artspace":MAILTO:contact@redspringsart.space
END:VEVENT
BEGIN:VEVENT
DTSTART;TZID=America/New_York:20250122T120000
DTEND;TZID=America/New_York:20250122T150000
DTSTAMP:20260422T093924
CREATED:20241127T181514Z
LAST-MODIFIED:20241127T200501Z
UID:10005339-1737547200-1737558000@www.lumberton-nc.com
SUMMARY:Material Integration II - Red Springs ArtSpace
DESCRIPTION:Red Springs Artspace is hosting “Material Integration II”\, a solo art exhibition by Ray Im. Ray Im is a Korean-born American lens-based artist and ceramicist. He blends traditional techniques of ceramics and photography to create a unique presentation in space. While examining the relationship between the two mediums\, he offers a fresh perspective on the interplay between tradition and modernity in object and installation settings. He utilizes the German Deadpan style in his photography\, giving his images a cool\, detached\, and emotionless quality\, an approach that carries over into his interdisciplinary installation sculptures and pottery works. \nRed Springs ArtSpace is open to the public each Wednesday from 12:00pm to 3:00pm and each Sunday from 2:00pm – 4:00pm and by appointment.
URL:https://www.lumberton-nc.com/event/material-integration-ii-red-springs-artspace/2025-01-22/
LOCATION:Red Springs Artspace\, 200 South Main Street\, Red Springs\, North Carolina\, 28377
ORGANIZER;CN="Red Springs Artspace":MAILTO:contact@redspringsart.space
END:VEVENT
BEGIN:VEVENT
DTSTART;TZID=America/New_York:20250122T160000
DTEND;TZID=America/New_York:20250122T220000
DTSTAMP:20260422T093924
CREATED:20241206T204706Z
LAST-MODIFIED:20241210T152020Z
UID:10005357-1737561600-1737583200@www.lumberton-nc.com
SUMMARY:Retro City Arcade Kidz Night
DESCRIPTION:Retro City Arcade Bar and Pizzeria hosts Kidz Night each Wednesday.  Children under 18 play for only $5.00.  No entry fee for monitoring children or enjoying the restaurant.  Enjoy!
URL:https://www.lumberton-nc.com/event/retro-city-arcade-kidz-night/2025-01-22/
LOCATION:Retro City Arcade Bar & Pizzeria\, 328 Eat 24th Street\, Lumberton\, North Carolina\, 28358
ATTACH;FMTTYPE=image/jpeg:https://www.lumberton-nc.com/wp-content/uploads/kidz-night.jpg
END:VEVENT
BEGIN:VEVENT
DTSTART;TZID=America/New_York:20250122T170000
DTEND;TZID=America/New_York:20250122T170000
DTSTAMP:20260422T093924
CREATED:20241213T172648Z
LAST-MODIFIED:20241213T172648Z
UID:10005396-1737565200-1737565200@www.lumberton-nc.com
SUMMARY:Basketball - UNCP Women
DESCRIPTION:The Francis Marion Patriots are on campus to challenge the UNCP Braves in a basketball game.  The event is at 5:00pm\, so go enjoy an exciting basketball game.  Go Braves!!!
URL:https://www.lumberton-nc.com/event/basketball-uncp-women-20/
LOCATION:Lumbee Guaranty Bank Court\, 403 East 3rd Street\, Pembroke\, North Carolina\, 28372
ATTACH;FMTTYPE=image/jpeg:https://www.lumberton-nc.com/wp-content/uploads/UNCP-Women-Basketball1.jpg
END:VEVENT
BEGIN:VEVENT
DTSTART;TZID=America/New_York:20250122T190000
DTEND;TZID=America/New_York:20250122T190000
DTSTAMP:20260422T093924
CREATED:20241212T180048Z
LAST-MODIFIED:20241212T180048Z
UID:10005384-1737572400-1737572400@www.lumberton-nc.com
SUMMARY:Basketball  - UNCP Men
DESCRIPTION:The Braves welcome the Francis Marion Patriots to campus for a basketball game.  Join the cheering crowd at the game and be aware that it’s Battle of I-95//Sneakerhead Night.  The game is at 7:00pm.  Follow the link for ticket information.
URL:https://www.lumberton-nc.com/event/basketball-uncp-men-5/
LOCATION:Lumbee Guaranty Bank Court\, 403 East 3rd Street\, Pembroke\, North Carolina\, 28372
ATTACH;FMTTYPE=image/jpeg:https://www.lumberton-nc.com/wp-content/uploads/UNCP-Basketball-Player2-crop1.jpg
END:VEVENT
BEGIN:VEVENT
DTSTART;TZID=America/New_York:20250123T190000
DTEND;TZID=America/New_York:20250123T220000
DTSTAMP:20260422T093924
CREATED:20250103T213302Z
LAST-MODIFIED:20250121T162349Z
UID:10005446-1737658800-1737669600@www.lumberton-nc.com
SUMMARY:Matt Letch @ Your Pie Pizza
DESCRIPTION:It’s Thursday Night!  Matt Letch is performing at Your Pie Pizza Restaurant.  Eat your favorite pizza\, enjoy a brew and gelato for dessert.  It’s the place to be!
URL:https://www.lumberton-nc.com/event/matt-letch-your-pie-pizza-2/
LOCATION:Your Pie Pizza\, 5130 Fayetteville Road\, Lumberton\, North Carolina\, 29360
ATTACH;FMTTYPE=image/jpeg:https://www.lumberton-nc.com/wp-content/uploads/Matt-Letch.jpg
ORGANIZER;CN="Your Pie Pizza":MAILTO:kfraley2450@gmail.com
END:VEVENT
BEGIN:VEVENT
DTSTART;TZID=America/New_York:20250125T200000
DTEND;TZID=America/New_York:20250125T200000
DTSTAMP:20260422T093924
CREATED:20241206T203640Z
LAST-MODIFIED:20241210T175237Z
UID:10005352-1737835200-1737835200@www.lumberton-nc.com
SUMMARY:Retro City Arcade Bar & Pizzeria - Karaoke Nights
DESCRIPTION:Retro City Arcade Bar & Pizzeria feature Karaoke Night each Saturday night.  Practice makes perfect\, (they say)\, so join the group on Karaoke night at the arcade.  Age 21 and older only.
URL:https://www.lumberton-nc.com/event/retro-city-arcade-bar-pizzeria-karaoke-nights/2025-01-25/
LOCATION:Retro City Arcade Bar & Pizzeria\, 328 Eat 24th Street\, Lumberton\, North Carolina\, 28358
ATTACH;FMTTYPE=image/jpeg:https://www.lumberton-nc.com/wp-content/uploads/Karaoke-night.jpg
END:VEVENT
BEGIN:VEVENT
DTSTART;TZID=America/New_York:20250126T140000
DTEND;TZID=America/New_York:20250126T160000
DTSTAMP:20260422T093924
CREATED:20241127T181514Z
LAST-MODIFIED:20241127T200501Z
UID:10005340-1737900000-1737907200@www.lumberton-nc.com
SUMMARY:Material Integration II - Red Springs ArtSpace
DESCRIPTION:Red Springs Artspace is hosting “Material Integration II”\, a solo art exhibition by Ray Im. Ray Im is a Korean-born American lens-based artist and ceramicist. He blends traditional techniques of ceramics and photography to create a unique presentation in space. While examining the relationship between the two mediums\, he offers a fresh perspective on the interplay between tradition and modernity in object and installation settings. He utilizes the German Deadpan style in his photography\, giving his images a cool\, detached\, and emotionless quality\, an approach that carries over into his interdisciplinary installation sculptures and pottery works. \nRed Springs ArtSpace is open to the public each Wednesday from 12:00pm to 3:00pm and each Sunday from 2:00pm – 4:00pm and by appointment.
URL:https://www.lumberton-nc.com/event/material-integration-ii-red-springs-artspace/2025-01-26/
LOCATION:Red Springs Artspace\, 200 South Main Street\, Red Springs\, North Carolina\, 28377
ORGANIZER;CN="Red Springs Artspace":MAILTO:contact@redspringsart.space
END:VEVENT
BEGIN:VEVENT
DTSTART;TZID=America/New_York:20250129T160000
DTEND;TZID=America/New_York:20250129T220000
DTSTAMP:20260422T093924
CREATED:20241206T204706Z
LAST-MODIFIED:20241210T152020Z
UID:10005358-1738166400-1738188000@www.lumberton-nc.com
SUMMARY:Retro City Arcade Kidz Night
DESCRIPTION:Retro City Arcade Bar and Pizzeria hosts Kidz Night each Wednesday.  Children under 18 play for only $5.00.  No entry fee for monitoring children or enjoying the restaurant.  Enjoy!
URL:https://www.lumberton-nc.com/event/retro-city-arcade-kidz-night/2025-01-29/
LOCATION:Retro City Arcade Bar & Pizzeria\, 328 Eat 24th Street\, Lumberton\, North Carolina\, 28358
ATTACH;FMTTYPE=image/jpeg:https://www.lumberton-nc.com/wp-content/uploads/kidz-night.jpg
END:VEVENT
END:VCALENDAR